BEGIN:VCALENDAR
VERSION:2.0
PRODID:City of Bend Calendar Creator
METHOD:PUBLISH
BEGIN:VEVENT
DTSTAMP:20241007T163600
DTSTART:20241014T173000
DTEND:20241014T235900
SUMMARY:Planning Commission
DESCRIPTION:<p>The meeting convenes at 5:30PM on a hybrid, in-person and virtual Zoom platform.</p><h2>Join the meeting using the following options:</h2><p><strong>In-person location:</strong> City Hall, Council Chambers, 710 NW Wall Street, Bend, OR 97703</p><p><a href="https://bendoregon-gov.zoom.us/webinar/register/WN_WnBSlnWIQKe2Li9WK9F15w" target="_blank"><strong>Register via Zoom</strong></a></p><p><b>Call-in Phone Number: </b>1-888-788-0099 </p><p><b>Webinar ID:</b> 885 2563 8008</p><p> <b>Passcode:</b> 416814</p><p><strong>YouTube Link</strong>:&nbsp;<a href="https://nam11.safelinks.protection.outlook.com/?url=https%3A%2F%2Fyoutube.com%2Flive%2FenZZnbIJUnM%3Ffeature%3Dshare&amp;data=05%7C02%7Cmstonge%40bendoregon.gov%7C349cc8a53c914b18ded908dce15b016a%7C1c15334815ef4708aebf1e25e57dc400%7C0%7C0%7C638633028243393543%7CUnknown%7CTWFpbGZsb3d8eyJWIjoiMC4wLjAwMDAiLCJQIjoiV2luMzIiLCJBTiI6Ik1haWwiLCJXVCI6Mn0%3D%7C0%7C%7C%7C&amp;sdata=6yeXnfg8w%2BQqxxGZlr2xsaczDcEOV%2BcNPanZa1NgnWo%3D&amp;reserved=0" target="_blank"><b>https://youtube.com/live/enZZnbIJUnM?feature=share</b></a></p><p>The public is invited to <strong><a href="https://nam11.safelinks.protection.outlook.com/?url=https%3A%2F%2Fyoutube.com%2Flive%2FenZZnbIJUnM%3Ffeature%3Dshare&amp;data=05%7C02%7Cmstonge%40bendoregon.gov%7C349cc8a53c914b18ded908dce15b016a%7C1c15334815ef4708aebf1e25e57dc400%7C0%7C0%7C638633028243393543%7CUnknown%7CTWFpbGZsb3d8eyJWIjoiMC4wLjAwMDAiLCJQIjoiV2luMzIiLCJBTiI6Ik1haWwiLCJXVCI6Mn0%3D%7C0%7C%7C%7C&amp;sdata=6yeXnfg8w%2BQqxxGZlr2xsaczDcEOV%2BcNPanZa1NgnWo%3D&amp;reserved=0" target="_blank">watch on-line via YouTube</a></strong>.</p><p>Please click here to view the meeting <a href="https://www.bendoregon.gov/home/showpublisheddocument/60325" target="_blank"><strong>agenda</strong></a>:&nbsp;<a href="https://www.bendoregon.gov/home/showpublisheddocument/60325" target="_blank">https://www.bendoregon.gov/home/showpublisheddocument/60325</a></p>
X-ALT-DESC;FMTTYPE=text/html:<p>The meeting convenes at 5:30PM on a hybrid, in-person and virtual Zoom platform.</p><h2>Join the meeting using the following options:</h2><p><strong>In-person location:</strong> City Hall, Council Chambers, 710 NW Wall Street, Bend, OR 97703</p><p><a href="https://bendoregon-gov.zoom.us/webinar/register/WN_WnBSlnWIQKe2Li9WK9F15w" target="_blank"><strong>Register via Zoom</strong></a></p><p><b>Call-in Phone Number: </b>1-888-788-0099 </p><p><b>Webinar ID:</b> 885 2563 8008</p><p> <b>Passcode:</b> 416814</p><p><strong>YouTube Link</strong>:&nbsp;<a href="https://nam11.safelinks.protection.outlook.com/?url=https%3A%2F%2Fyoutube.com%2Flive%2FenZZnbIJUnM%3Ffeature%3Dshare&amp;data=05%7C02%7Cmstonge%40bendoregon.gov%7C349cc8a53c914b18ded908dce15b016a%7C1c15334815ef4708aebf1e25e57dc400%7C0%7C0%7C638633028243393543%7CUnknown%7CTWFpbGZsb3d8eyJWIjoiMC4wLjAwMDAiLCJQIjoiV2luMzIiLCJBTiI6Ik1haWwiLCJXVCI6Mn0%3D%7C0%7C%7C%7C&amp;sdata=6yeXnfg8w%2BQqxxGZlr2xsaczDcEOV%2BcNPanZa1NgnWo%3D&amp;reserved=0" target="_blank"><b>https://youtube.com/live/enZZnbIJUnM?feature=share</b></a></p><p>The public is invited to <strong><a href="https://nam11.safelinks.protection.outlook.com/?url=https%3A%2F%2Fyoutube.com%2Flive%2FenZZnbIJUnM%3Ffeature%3Dshare&amp;data=05%7C02%7Cmstonge%40bendoregon.gov%7C349cc8a53c914b18ded908dce15b016a%7C1c15334815ef4708aebf1e25e57dc400%7C0%7C0%7C638633028243393543%7CUnknown%7CTWFpbGZsb3d8eyJWIjoiMC4wLjAwMDAiLCJQIjoiV2luMzIiLCJBTiI6Ik1haWwiLCJXVCI6Mn0%3D%7C0%7C%7C%7C&amp;sdata=6yeXnfg8w%2BQqxxGZlr2xsaczDcEOV%2BcNPanZa1NgnWo%3D&amp;reserved=0" target="_blank">watch on-line via YouTube</a></strong>.</p><p>Please click here to view the meeting <a href="https://www.bendoregon.gov/home/showpublisheddocument/60325" target="_blank"><strong>agenda</strong></a>:&nbsp;<a href="https://www.bendoregon.gov/home/showpublisheddocument/60325" target="_blank">https://www.bendoregon.gov/home/showpublisheddocument/60325</a></p>
LOCATION:Council Chambers (City Hall)\, 710 NW Wall St Bend\, Oregon 97703
CLASS:PUBLIC
END:VEVENT
END:VCALENDAR
