BEGIN:VCALENDAR
VERSION:2.0
PRODID:City of Bend Calendar Creator
METHOD:PUBLISH
BEGIN:VEVENT
DTSTAMP:20241210T130654
DTSTART:20241028T173000
DTEND:20241028T235900
SUMMARY:Planning Commission
DESCRIPTION:<p>The meeting convenes at 5:30PM on a hybrid, in-person and virtual Zoom platform.</p><p>Join the meeting using the following options:</p><p>In-person location: City Hall, Council Chambers, 710 NW Wall Street, Bend, OR 97703</p><p>Register via Zoom Online Meeting Link:&nbsp;<a href="https://bendoregon-gov.zoom.us/webinar/register/WN_o8MK0d_BRdiYsftEfGEp6w"><a href="https://bendoregon-gov.zoom.us/webinar/register/WN_yZDSKhrmTFSZT9mucou71A"><b>https://bendoregon-gov.zoom.us/webinar/register/WN_yZDSKhrmTFSZT9mucou71A</b></a></a></p><p><i>You can also copy and paste the Zoom link into your browser.</i></p><p><b>Call-in Phone Number: </b>1-888-788-0099 </p><p><b>Webinar ID:</b> 859 9517 0334</p><p><b>Passcode:</b> 936576</p><p>The public is invited to watch on-line at:&nbsp;<a href="https://www.youtube.com/live/ISrRv_Oztng" target="_blank"></a></p><p><a href="https://youtube.com/live/phWFQydh0Uo?feature=share" target="_blank"><b>https://youtube.com/live/phWFQydh0Uo?feature=share</b></a></p><p>Please click here to view the meeting agenda:&nbsp;<a href="https://bendoregon.prod-as.govaccess.org/home/showpublisheddocument/60681/638652757385670000" target="_blank">Agenda</a></p>
X-ALT-DESC;FMTTYPE=text/html:<p>The meeting convenes at 5:30PM on a hybrid, in-person and virtual Zoom platform.</p><p>Join the meeting using the following options:</p><p>In-person location: City Hall, Council Chambers, 710 NW Wall Street, Bend, OR 97703</p><p>Register via Zoom Online Meeting Link:&nbsp;<a href="https://bendoregon-gov.zoom.us/webinar/register/WN_o8MK0d_BRdiYsftEfGEp6w"><a href="https://bendoregon-gov.zoom.us/webinar/register/WN_yZDSKhrmTFSZT9mucou71A"><b>https://bendoregon-gov.zoom.us/webinar/register/WN_yZDSKhrmTFSZT9mucou71A</b></a></a></p><p><i>You can also copy and paste the Zoom link into your browser.</i></p><p><b>Call-in Phone Number: </b>1-888-788-0099 </p><p><b>Webinar ID:</b> 859 9517 0334</p><p><b>Passcode:</b> 936576</p><p>The public is invited to watch on-line at:&nbsp;<a href="https://www.youtube.com/live/ISrRv_Oztng" target="_blank"></a></p><p><a href="https://youtube.com/live/phWFQydh0Uo?feature=share" target="_blank"><b>https://youtube.com/live/phWFQydh0Uo?feature=share</b></a></p><p>Please click here to view the meeting agenda:&nbsp;<a href="https://bendoregon.prod-as.govaccess.org/home/showpublisheddocument/60681/638652757385670000" target="_blank">Agenda</a></p>
LOCATION:Council Chambers (City Hall)\, 710 NW Wall St Bend\, Oregon 97703
CLASS:PUBLIC
END:VEVENT
END:VCALENDAR
