BEGIN:VCALENDAR
VERSION:2.0
PRODID:City of Bend Calendar Creator
METHOD:PUBLISH
BEGIN:VEVENT
DTSTAMP:20241202T064057
DTSTART:20241202T120000
DTEND:20241202T130000
SUMMARY:Bend Economic Development Advisory Board (BEDAB) Hybrid Meeting
DESCRIPTION:<p align="center"><b>NOTICE OF MEETING</b></p><p align="center"><b>BEDAB ADVISORY BOARD HYBRID </b></p><p align="center"><b>December 2,2024</b></p><p><span style="text-decoration: underline;"><strong><a href="https://bendoregon.prod-as.govaccess.org/home/showpublisheddocument/61565/638687184365370000" target="_blank">AGENDA</a></strong></span></p><p><b>MEETING NOTICE</b><br>The Bend Economic Development Advisory Board (BEDAB) will conduct a hybrid meeting/retreat through Zoom and in person in the <b><u>Council Chambers</u></b> at 710 NW Wall Street, Bend, OR 97703 on <b><u>Monday December 2,2024</u></b>, from noon to 1:00 pm.</p><p><b>For Committee Members and City Staff:</b></p><p>You will receive a Zoom email confirmation with a personal link/information to connect via computer or phone.</p><p><b>Regular Attendees-Zoom Link: </b><a href="https://bendoregon-gov.zoom.us/j/84594970572?pwd=C0mL8jbgkh0n5z8ZqYxvb9Hc6oOf6c.1"><b>https://bendoregon-gov.zoom.us/j/84594970572?pwd=C0mL8jbgkh0n5z8ZqYxvb9Hc6oOf6c.1</b></a></p><p><b>To Attend by Phone:</b></p><ul>    <li><b>Call-in Phone Number: </b>1-888-788-0099</li>    <li><b>Webinar ID: </b>845 9497 0572#</li>    <li><b>Passcode: </b><strong>999941</strong></li></ul><p><b>YouTube Link:</b> Coming Soon!</p><p><b>Technical Difficulties Connecting to this Meeting: </b>Call 541-410-9341.</p><p><b>Accessible Meeting Information</b></p><p>This meeting/event location is accessible. Sign language interpreter service, assistive listening devices, materials in alternate format such as Braille, large print, electronic formats, or any other accommodations are available upon advance request. Please contact Gina M Kadow no later than 24 hours in advance at <a href="mailto:&#103;&#107;&#97;&#100;&#111;&#119;&#64;&#98;&#101;&#110;&#100;&#111;&#114;&#101;&#103;&#111;&#110;&#46;&#103;&#111;&#118;"><b>gkadow@bendoregon.gov</b></a> or call 541-388-5505; Relay Users Dial 7-1-1. Providing at least 3 days’ notice prior to the event will help ensure availability.</p><p><b></b></p><p>&nbsp;</p><p>&nbsp;</p>
X-ALT-DESC;FMTTYPE=text/html:<p align="center"><b>NOTICE OF MEETING</b></p><p align="center"><b>BEDAB ADVISORY BOARD HYBRID </b></p><p align="center"><b>December 2,2024</b></p><p><span style="text-decoration: underline;"><strong><a href="https://bendoregon.prod-as.govaccess.org/home/showpublisheddocument/61565/638687184365370000" target="_blank">AGENDA</a></strong></span></p><p><b>MEETING NOTICE</b><br>The Bend Economic Development Advisory Board (BEDAB) will conduct a hybrid meeting/retreat through Zoom and in person in the <b><u>Council Chambers</u></b> at 710 NW Wall Street, Bend, OR 97703 on <b><u>Monday December 2,2024</u></b>, from noon to 1:00 pm.</p><p><b>For Committee Members and City Staff:</b></p><p>You will receive a Zoom email confirmation with a personal link/information to connect via computer or phone.</p><p><b>Regular Attendees-Zoom Link: </b><a href="https://bendoregon-gov.zoom.us/j/84594970572?pwd=C0mL8jbgkh0n5z8ZqYxvb9Hc6oOf6c.1"><b>https://bendoregon-gov.zoom.us/j/84594970572?pwd=C0mL8jbgkh0n5z8ZqYxvb9Hc6oOf6c.1</b></a></p><p><b>To Attend by Phone:</b></p><ul>    <li><b>Call-in Phone Number: </b>1-888-788-0099</li>    <li><b>Webinar ID: </b>845 9497 0572#</li>    <li><b>Passcode: </b><strong>999941</strong></li></ul><p><b>YouTube Link:</b> Coming Soon!</p><p><b>Technical Difficulties Connecting to this Meeting: </b>Call 541-410-9341.</p><p><b>Accessible Meeting Information</b></p><p>This meeting/event location is accessible. Sign language interpreter service, assistive listening devices, materials in alternate format such as Braille, large print, electronic formats, or any other accommodations are available upon advance request. Please contact Gina M Kadow no later than 24 hours in advance at <a href="mailto:&#103;&#107;&#97;&#100;&#111;&#119;&#64;&#98;&#101;&#110;&#100;&#111;&#114;&#101;&#103;&#111;&#110;&#46;&#103;&#111;&#118;"><b>gkadow@bendoregon.gov</b></a> or call 541-388-5505; Relay Users Dial 7-1-1. Providing at least 3 days’ notice prior to the event will help ensure availability.</p><p><b></b></p><p>&nbsp;</p><p>&nbsp;</p>
LOCATION:Hybrid Meeting Via Zoom & in person in Council Chambers: see details below\, 710 NW WALL ST BEND\, Oregon 97703-2713
CLASS:PUBLIC
END:VEVENT
END:VCALENDAR
