BEGIN:VCALENDAR
VERSION:2.0
PRODID:City of Bend Calendar Creator
METHOD:PUBLISH
BEGIN:VEVENT
DTSTAMP:20241213T085652
DTSTART:20241217T180000
DTEND:20241217T235900
SUMMARY:CANCELLED: Landmarks Commission
DESCRIPTION:<p>The 12/17/2024 Landmarks Commission Meeting is Cancelled.&nbsp;</p><p>Please visit the Landmarks Commission page for future meetings:&nbsp;<a href="https://www.bendoregon.gov/government/committees/landmarks-commission" target="_blank">https://www.bendoregon.gov/government/committees/landmarks-commission</a></p><p>&nbsp;</p>
X-ALT-DESC;FMTTYPE=text/html:<p>The 12/17/2024 Landmarks Commission Meeting is Cancelled.&nbsp;</p><p>Please visit the Landmarks Commission page for future meetings:&nbsp;<a href="https://www.bendoregon.gov/government/committees/landmarks-commission" target="_blank">https://www.bendoregon.gov/government/committees/landmarks-commission</a></p><p>&nbsp;</p>
LOCATION:Council Chambers (City Hall)\, 710 NW Wall St Bend\, Oregon 97703
CLASS:PUBLIC
END:VEVENT
END:VCALENDAR
