BEGIN:VCALENDAR
VERSION:2.0
PRODID:City of Bend Calendar Creator
METHOD:PUBLISH
BEGIN:VEVENT
DTSTAMP:20250211T095703
DTSTART:20250224T173000
DTEND:20250224T235900
SUMMARY:CANCELLED - Planning Commission
DESCRIPTION:<p>The 2/24/25 Planning Commission meeting has been cancelled. Please see the&nbsp;<u><a href="https://www.bendoregon.gov/government/committees/planning-commission">Bend Planning Commission</a></u> page for future meeting.&nbsp;</p>
X-ALT-DESC;FMTTYPE=text/html:<p>The 2/24/25 Planning Commission meeting has been cancelled. Please see the&nbsp;<u><a href="https://www.bendoregon.gov/government/committees/planning-commission">Bend Planning Commission</a></u> page for future meeting.&nbsp;</p>
LOCATION:Council Chambers (City Hall)\, 710 NW Wall St Bend\, Oregon 97703
CLASS:PUBLIC
END:VEVENT
END:VCALENDAR
