BEGIN:VCALENDAR
VERSION:2.0
PRODID:City of Bend Calendar Creator
METHOD:PUBLISH
BEGIN:VEVENT
DTSTAMP:20250807T140748
DTSTART:20250811T173000
DTEND:20250811T235900
SUMMARY:Planning Commission
DESCRIPTION:<p>The meeting convenes at 5:30PM on a hybrid, in-person and virtual Zoom platform.</p><p>Join the meeting using the following options:</p><p>In-person location: City Hall, Council Chambers, 710 NW Wall Street, Bend, OR 97703</p><p>Register via Zoom Online Meeting Link:  <a href="https://bendoregon-gov.zoom.us/webinar/register/WN_df_p4BVtSqerkabNtLQhPw">https://bendoregon-gov.zoom.us/webinar/register/WN_df_p4BVtSqerkabNtLQhPw</a></p><p><em>You can also copy and paste the Zoom link into your browser.</em></p><p><strong>Call in Phone Number:</strong>1- 888-788-0099</p><p><strong>Webinar ID:</strong> 880 1531 5560</p><p><strong>Passcode:</strong> 097821</p><p>The public is invited to watch on-line at: YouTube link&nbsp;<a href="https://youtube.com/live/weZnyF5X2E0?feature=share">https://youtube.com/live/weZnyF5X2E0?feature=share</a></p><p>Please click to view the meeting agenda: <a href="https://bendoregon.prod-as.govaccess.org/home/showpublisheddocument/63633/638901721605130000" target="_blank">8/11/25 Agenda</a></p>
X-ALT-DESC;FMTTYPE=text/html:<p>The meeting convenes at 5:30PM on a hybrid, in-person and virtual Zoom platform.</p><p>Join the meeting using the following options:</p><p>In-person location: City Hall, Council Chambers, 710 NW Wall Street, Bend, OR 97703</p><p>Register via Zoom Online Meeting Link:  <a href="https://bendoregon-gov.zoom.us/webinar/register/WN_df_p4BVtSqerkabNtLQhPw">https://bendoregon-gov.zoom.us/webinar/register/WN_df_p4BVtSqerkabNtLQhPw</a></p><p><em>You can also copy and paste the Zoom link into your browser.</em></p><p><strong>Call in Phone Number:</strong>1- 888-788-0099</p><p><strong>Webinar ID:</strong> 880 1531 5560</p><p><strong>Passcode:</strong> 097821</p><p>The public is invited to watch on-line at: YouTube link&nbsp;<a href="https://youtube.com/live/weZnyF5X2E0?feature=share">https://youtube.com/live/weZnyF5X2E0?feature=share</a></p><p>Please click to view the meeting agenda: <a href="https://bendoregon.prod-as.govaccess.org/home/showpublisheddocument/63633/638901721605130000" target="_blank">8/11/25 Agenda</a></p>
LOCATION:Council Chambers (City Hall)\, 710 NW Wall St Bend\, Oregon 97703
CLASS:PUBLIC
END:VEVENT
END:VCALENDAR
