BEGIN:VCALENDAR
VERSION:2.0
PRODID:City of Bend Calendar Creator
METHOD:PUBLISH
BEGIN:VEVENT
DTSTAMP:20251201T153033
DTSTART:20251208T173000
DTEND:20251208T235900
SUMMARY:Planning Commission
DESCRIPTION:<p>The meeting convenes at 5:30PM on a hybrid, in-person and virtual Zoom platform.</p><p>Join the meeting using the following options:</p><p>In-person location: City Hall, Council Chambers, 710 NW Wall Street, Bend, OR 97703</p><p>Register via Zoom Online Meeting Link:  <a href="https://bendoregon-gov.zoom.us/webinar/register/WN_nZUsYTSmTrCoaJYUzMd4zw"><b>https://bendoregon-gov.zoom.us/webinar/register/WN_nZUsYTSmTrCoaJYUzMd4zw</b></a></p><p><em>You can also copy and paste the Zoom link into your browser.</em></p><p><strong>Call in Phone Number:&nbsp;</strong>1- 888-788-0099</p><p><strong>Webinar ID:</strong> 874 8865 5725</p><p><strong>Passcode:</strong>&nbsp;376647</p><p>The public is invited to watch on-line at: <a href="https://youtube.com/live/ymYPJ0yjIBw?feature=share" target="_blank"><b>https://youtube.com/live/ymYPJ0yjIBw?feature=share</b></a></p><p>Please click to view the meeting agenda:&nbsp;<b><a href="https://bendoregon.prod-as.govaccess.org/home/showpublisheddocument/64540/639002836968300000" target="_blank" rel="noopener">Bend Planning Commission Agenda 12/08/2025</a></b></p>
X-ALT-DESC;FMTTYPE=text/html:<p>The meeting convenes at 5:30PM on a hybrid, in-person and virtual Zoom platform.</p><p>Join the meeting using the following options:</p><p>In-person location: City Hall, Council Chambers, 710 NW Wall Street, Bend, OR 97703</p><p>Register via Zoom Online Meeting Link:  <a href="https://bendoregon-gov.zoom.us/webinar/register/WN_nZUsYTSmTrCoaJYUzMd4zw"><b>https://bendoregon-gov.zoom.us/webinar/register/WN_nZUsYTSmTrCoaJYUzMd4zw</b></a></p><p><em>You can also copy and paste the Zoom link into your browser.</em></p><p><strong>Call in Phone Number:&nbsp;</strong>1- 888-788-0099</p><p><strong>Webinar ID:</strong> 874 8865 5725</p><p><strong>Passcode:</strong>&nbsp;376647</p><p>The public is invited to watch on-line at: <a href="https://youtube.com/live/ymYPJ0yjIBw?feature=share" target="_blank"><b>https://youtube.com/live/ymYPJ0yjIBw?feature=share</b></a></p><p>Please click to view the meeting agenda:&nbsp;<b><a href="https://bendoregon.prod-as.govaccess.org/home/showpublisheddocument/64540/639002836968300000" target="_blank" rel="noopener">Bend Planning Commission Agenda 12/08/2025</a></b></p>
LOCATION:Council Chambers (City Hall)\, 710 NW Wall St Bend\, Oregon 97703
CLASS:PUBLIC
END:VEVENT
END:VCALENDAR
