BEGIN:VCALENDAR
VERSION:2.0
PRODID:City of Bend Calendar Creator
METHOD:PUBLISH
BEGIN:VEVENT
DTSTAMP:20241210T142125
DTSTART:20260810T173000
DTEND:20260810T235900
SUMMARY:Planning Commission
DESCRIPTION:<p>The meeting convenes at 5:30PM on a hybrid, in-person and virtual Zoom platform.</p><p>Join the meeting using the following options:</p><p>In-person location: City Hall, Council Chambers, 710 NW Wall Street, Bend, OR 97703</p><p>Register via Zoom Online Meeting Link:  TBD</p><p><em>You can also copy and paste the Zoom link into your browser.</em></p><p><strong>Call in Phone Number:</strong>1- 888-788-0099</p><p><strong>Webinar ID:</strong> TBD</p><p><strong>Passcode:</strong> TBD</p><p>The public is invited to watch on-line at: YouTube link TBD</p><p>Please click to view the meeting agenda: TBD</p>
X-ALT-DESC;FMTTYPE=text/html:<p>The meeting convenes at 5:30PM on a hybrid, in-person and virtual Zoom platform.</p><p>Join the meeting using the following options:</p><p>In-person location: City Hall, Council Chambers, 710 NW Wall Street, Bend, OR 97703</p><p>Register via Zoom Online Meeting Link:  TBD</p><p><em>You can also copy and paste the Zoom link into your browser.</em></p><p><strong>Call in Phone Number:</strong>1- 888-788-0099</p><p><strong>Webinar ID:</strong> TBD</p><p><strong>Passcode:</strong> TBD</p><p>The public is invited to watch on-line at: YouTube link TBD</p><p>Please click to view the meeting agenda: TBD</p>
LOCATION:Council Chambers (City Hall)\, 710 NW Wall St Bend\, Oregon 97703
CLASS:PUBLIC
END:VEVENT
END:VCALENDAR
