BEGIN:VCALENDAR
VERSION:2.0
PRODID:City of Bend Calendar Creator
METHOD:PUBLISH
BEGIN:VEVENT
DTSTAMP:20250203T135923
DTSTART:20250210T173000
DTEND:20250210T235900
SUMMARY:Planning Commission
DESCRIPTION:<p>The meeting convenes at 5:30PM on a hybrid, in-person and virtual Zoom platform.</p><p>Join the meeting using the following options:</p><p>In-person location: City Hall, Council Chambers, 710 NW Wall Street, Bend, OR 97703</p><p>Register via Zoom Online Meeting Link: <a href="https://bendoregon-gov.zoom.us/webinar/register/WN_Qdc8J4pnSmmP7bTS0dGw5g"><b>https://bendoregon-gov.zoom.us/webinar/register/WN_Qdc8J4pnSmmP7bTS0dGw5g</b></a>&nbsp; &nbsp;</p><p><em>You can also copy and paste the Zoom link into your browser.</em></p><p><strong>Call in Phone Number:</strong>1- 888-788-0099</p><p><strong>Webinar ID:</strong> 892 9499 4235</p><p><strong>Passcode:</strong> 931174</p><p>The public is invited to watch on-line at: <a href="https://youtube.com/live/7JtUBqw8JiU?feature=share"><b>https://youtube.com/live/7JtUBqw8JiU?feature=share</b></a>&nbsp;</p><p>Please click to view the meeting agenda: <a href="https://bendoregon.prod-as.govaccess.org/home/showpublisheddocument/62166/638743607363000000" target="_blank">2/10/25 Agenda</a></p>
X-ALT-DESC;FMTTYPE=text/html:<p>The meeting convenes at 5:30PM on a hybrid, in-person and virtual Zoom platform.</p><p>Join the meeting using the following options:</p><p>In-person location: City Hall, Council Chambers, 710 NW Wall Street, Bend, OR 97703</p><p>Register via Zoom Online Meeting Link: <a href="https://bendoregon-gov.zoom.us/webinar/register/WN_Qdc8J4pnSmmP7bTS0dGw5g"><b>https://bendoregon-gov.zoom.us/webinar/register/WN_Qdc8J4pnSmmP7bTS0dGw5g</b></a>&nbsp; &nbsp;</p><p><em>You can also copy and paste the Zoom link into your browser.</em></p><p><strong>Call in Phone Number:</strong>1- 888-788-0099</p><p><strong>Webinar ID:</strong> 892 9499 4235</p><p><strong>Passcode:</strong> 931174</p><p>The public is invited to watch on-line at: <a href="https://youtube.com/live/7JtUBqw8JiU?feature=share"><b>https://youtube.com/live/7JtUBqw8JiU?feature=share</b></a>&nbsp;</p><p>Please click to view the meeting agenda: <a href="https://bendoregon.prod-as.govaccess.org/home/showpublisheddocument/62166/638743607363000000" target="_blank">2/10/25 Agenda</a></p>
LOCATION:Council Chambers (City Hall)\, 710 NW Wall St Bend\, Oregon 97703
CLASS:PUBLIC
END:VEVENT
END:VCALENDAR
