BEGIN:VCALENDAR
VERSION:2.0
PRODID:City of Bend Calendar Creator
METHOD:PUBLISH
BEGIN:VEVENT
DTSTAMP:20250306T160733
DTSTART:20250310T173000
DTEND:20250310T235900
SUMMARY:Planning Commission
DESCRIPTION:<p>The meeting convenes at 5:30PM on a hybrid, in-person and virtual Zoom platform.</p><p>Join the meeting using the following options:</p><p>In-person location: City Hall, Council Chambers, 710 NW Wall Street, Bend, OR 97703</p><p>Register via Zoom Online Meeting Link:  <a href="https://bendoregon-gov.zoom.us/webinar/register/WN_zsUnhICsRCWSZKQU7WntYQ"><b>https://bendoregon-gov.zoom.us/webinar/register/WN_zsUnhICsRCWSZKQU7WntYQ</b></a></p><p><em>You can also copy and paste the Zoom link into your browser.</em></p><p><strong>Call in Phone Number:</strong>1- 888-788-0099</p><p><strong>Webinar ID:</strong> 824 6006 5205</p><p><strong>Passcode:</strong> 814353</p><p>The public is invited to watch on-line at: YouTube link <a href="https://youtube.com/live/m9LkMlweUMU?feature=share"><b>https://youtube.com/live/m9LkMlweUMU?feature=share</b></a></p><p>Please click to view the meeting agenda:&nbsp;<strong><a href="https://bendoregon.prod-as.govaccess.org/home/showpublisheddocument/62402/638768724497800000" target="_blank">Planning Commission Agenda 3.10.25</a></strong></p>
X-ALT-DESC;FMTTYPE=text/html:<p>The meeting convenes at 5:30PM on a hybrid, in-person and virtual Zoom platform.</p><p>Join the meeting using the following options:</p><p>In-person location: City Hall, Council Chambers, 710 NW Wall Street, Bend, OR 97703</p><p>Register via Zoom Online Meeting Link:  <a href="https://bendoregon-gov.zoom.us/webinar/register/WN_zsUnhICsRCWSZKQU7WntYQ"><b>https://bendoregon-gov.zoom.us/webinar/register/WN_zsUnhICsRCWSZKQU7WntYQ</b></a></p><p><em>You can also copy and paste the Zoom link into your browser.</em></p><p><strong>Call in Phone Number:</strong>1- 888-788-0099</p><p><strong>Webinar ID:</strong> 824 6006 5205</p><p><strong>Passcode:</strong> 814353</p><p>The public is invited to watch on-line at: YouTube link <a href="https://youtube.com/live/m9LkMlweUMU?feature=share"><b>https://youtube.com/live/m9LkMlweUMU?feature=share</b></a></p><p>Please click to view the meeting agenda:&nbsp;<strong><a href="https://bendoregon.prod-as.govaccess.org/home/showpublisheddocument/62402/638768724497800000" target="_blank">Planning Commission Agenda 3.10.25</a></strong></p>
LOCATION:Council Chambers (City Hall)\, 710 NW Wall St Bend\, Oregon 97703
CLASS:PUBLIC
END:VEVENT
END:VCALENDAR
