BEGIN:VCALENDAR
VERSION:2.0
PRODID:City of Bend Calendar Creator
METHOD:PUBLISH
BEGIN:VEVENT
DTSTAMP:20250407T154849
DTSTART:20250414T173000
DTEND:20250414T235900
SUMMARY:Planning Commission
DESCRIPTION:<p>The meeting convenes at 5:30PM on a hybrid, in-person and virtual Zoom platform.</p><p>Join the meeting using the following options:</p><p>In-person location: City Hall, Council Chambers, 710 NW Wall Street, Bend, OR 97703</p><p>Register via Zoom Online Meeting Link:  <a href="https://bendoregon-gov.zoom.us/webinar/register/WN_l54U5Rp_QGqA2noYsi22wg"><b>https://bendoregon-gov.zoom.us/webinar/register/WN_l54U5Rp_QGqA2noYsi22wg</b></a>&nbsp;</p><p><em>You can also copy and paste the Zoom link into your browser.</em></p><p><strong>Call in Phone Number:</strong>1- 888-788-0099</p><p><strong>Webinar ID:</strong> 853 2775 0911</p><p><strong>Passcode:</strong> 921123</p><p>The public is invited to watch on-line at: YouTube link <a href="https://youtube.com/live/xwxBqfE6WIM?feature=share"><b>https://youtube.com/live/xwxBqfE6WIM?feature=share</b></a></p><p>Please click to view the meeting agenda:&nbsp;<a href="https://bendoregon.prod-as.govaccess.org/home/showpublisheddocument/62688/638796409470600000" target="_blank"><strong>4.14.25 Planning Commission Agenda</strong></a></p>
X-ALT-DESC;FMTTYPE=text/html:<p>The meeting convenes at 5:30PM on a hybrid, in-person and virtual Zoom platform.</p><p>Join the meeting using the following options:</p><p>In-person location: City Hall, Council Chambers, 710 NW Wall Street, Bend, OR 97703</p><p>Register via Zoom Online Meeting Link:  <a href="https://bendoregon-gov.zoom.us/webinar/register/WN_l54U5Rp_QGqA2noYsi22wg"><b>https://bendoregon-gov.zoom.us/webinar/register/WN_l54U5Rp_QGqA2noYsi22wg</b></a>&nbsp;</p><p><em>You can also copy and paste the Zoom link into your browser.</em></p><p><strong>Call in Phone Number:</strong>1- 888-788-0099</p><p><strong>Webinar ID:</strong> 853 2775 0911</p><p><strong>Passcode:</strong> 921123</p><p>The public is invited to watch on-line at: YouTube link <a href="https://youtube.com/live/xwxBqfE6WIM?feature=share"><b>https://youtube.com/live/xwxBqfE6WIM?feature=share</b></a></p><p>Please click to view the meeting agenda:&nbsp;<a href="https://bendoregon.prod-as.govaccess.org/home/showpublisheddocument/62688/638796409470600000" target="_blank"><strong>4.14.25 Planning Commission Agenda</strong></a></p>
LOCATION:Council Chambers (City Hall)\, 710 NW Wall St Bend\, Oregon 97703
CLASS:PUBLIC
END:VEVENT
END:VCALENDAR
