BEGIN:VCALENDAR
VERSION:2.0
PRODID:City of Bend Calendar Creator
METHOD:PUBLISH
BEGIN:VEVENT
DTSTAMP:20250116T100508
DTSTART:20250115T150000
DTEND:20250115T170000
SUMMARY:Affordable Housing Advisory Committee (AHAC) Meeting
DESCRIPTION:<p><strong><strong><strong>This meeting will be held in City Hall Council Chambers and via Zoom</strong>.&nbsp;&nbsp;</strong>Meeting time is 3:00 - 6:00pm</strong></p><p><strong><strong>Agenda: <a href="https://www.bendoregon.gov/home/showdocument?id=62012&amp;t=638724508395263084" target="_blank">Final_AHAC_Agenda_1_15_2025</a></strong></strong></p><p>Public comments for this meeting will be accepted two ways.&nbsp;</p><ul>    <li>To comment live at the meeting, you&nbsp;<strong>must</strong>&nbsp;join the meeting&nbsp;via Zoom.&nbsp;</li>    <li>Or send comments to&nbsp;<a>mdriggers@bendoreong.gov&nbsp;</a>prior to&nbsp;12:00 pm&nbsp;on Wednesday, January 15, 2025. &nbsp;Comments will be shared with committee members.</li></ul><p>To join&nbsp;<b>via Computer</b>&nbsp;(Zoom) use the following link:<a href="https://bendoregon-gov.zoom.us/j/81297683117?pwd=VN5hFclSIw8CyjdjFEqX5ej16SxKio.1" target="_blank">&nbsp;https://bendoregon-gov.zoom.us/j/81297683117?pwd=VN5hFclSIw8CyjdjFEqX5ej16SxKio.1</a></p><p>Passcode (required):&nbsp;<b>262793</b></p><p>Or you may<strong>&nbsp;call</strong>&nbsp;into the meeting and enter the Webinar ID.</p><p>Call (<strong>toll charges may apply</strong>):&nbsp; 1-888-788-0099 or 1-253-215-8782</p><p>&nbsp;&nbsp;&nbsp;&nbsp;&nbsp;&nbsp;&nbsp;&nbsp;&nbsp;&nbsp;&nbsp;&nbsp;&nbsp;&nbsp;&nbsp;&nbsp;Webinar ID:&nbsp;&nbsp;8812 9768 3117</p><p>To watch live or later via YouTube:&nbsp;<a href="https://youtube.com/live/efdQHTJ1GlQ?feature=share" target="_blank">https://youtube.com/live/efdQHTJ1GlQ?feature=share</a></p><p>If you have&nbsp;<b>technical difficulties</b>&nbsp;connecting to the meeting, call 541-410-9341</p>
X-ALT-DESC;FMTTYPE=text/html:<p><strong><strong><strong>This meeting will be held in City Hall Council Chambers and via Zoom</strong>.&nbsp;&nbsp;</strong>Meeting time is 3:00 - 6:00pm</strong></p><p><strong><strong>Agenda: <a href="https://www.bendoregon.gov/home/showdocument?id=62012&amp;t=638724508395263084" target="_blank">Final_AHAC_Agenda_1_15_2025</a></strong></strong></p><p>Public comments for this meeting will be accepted two ways.&nbsp;</p><ul>    <li>To comment live at the meeting, you&nbsp;<strong>must</strong>&nbsp;join the meeting&nbsp;via Zoom.&nbsp;</li>    <li>Or send comments to&nbsp;<a>mdriggers@bendoreong.gov&nbsp;</a>prior to&nbsp;12:00 pm&nbsp;on Wednesday, January 15, 2025. &nbsp;Comments will be shared with committee members.</li></ul><p>To join&nbsp;<b>via Computer</b>&nbsp;(Zoom) use the following link:<a href="https://bendoregon-gov.zoom.us/j/81297683117?pwd=VN5hFclSIw8CyjdjFEqX5ej16SxKio.1" target="_blank">&nbsp;https://bendoregon-gov.zoom.us/j/81297683117?pwd=VN5hFclSIw8CyjdjFEqX5ej16SxKio.1</a></p><p>Passcode (required):&nbsp;<b>262793</b></p><p>Or you may<strong>&nbsp;call</strong>&nbsp;into the meeting and enter the Webinar ID.</p><p>Call (<strong>toll charges may apply</strong>):&nbsp; 1-888-788-0099 or 1-253-215-8782</p><p>&nbsp;&nbsp;&nbsp;&nbsp;&nbsp;&nbsp;&nbsp;&nbsp;&nbsp;&nbsp;&nbsp;&nbsp;&nbsp;&nbsp;&nbsp;&nbsp;Webinar ID:&nbsp;&nbsp;8812 9768 3117</p><p>To watch live or later via YouTube:&nbsp;<a href="https://youtube.com/live/efdQHTJ1GlQ?feature=share" target="_blank">https://youtube.com/live/efdQHTJ1GlQ?feature=share</a></p><p>If you have&nbsp;<b>technical difficulties</b>&nbsp;connecting to the meeting, call 541-410-9341</p>
LOCATION:Virtual Meeting - See Below for Details\, 
CLASS:PUBLIC
END:VEVENT
END:VCALENDAR
