BEGIN:VCALENDAR
VERSION:2.0
PRODID:City of Bend Calendar Creator
METHOD:PUBLISH
BEGIN:VEVENT
DTSTAMP:20250512T072331
DTSTART:20250514T150000
DTEND:20250514T170000
SUMMARY:Affordable Housing Advisory Committee (AHAC) Meeting
DESCRIPTION:<p>This meeting will be held in City Hall Council Chambers and via Zoom.&nbsp;&nbsp;Meeting time is 3:00 - 5:00pm</p><p><a href="https://www.bendoregon.gov/home/showdocument?id=62988&amp;t=638824043166567382" target="_blank">Agenda</a></p><p>Public comments for this meeting will be accepted two ways.&nbsp;</p><ul type="disc">    <li>To comment live at the meeting, you&nbsp;must&nbsp;join the meeting&nbsp;via Zoom.&nbsp;</li>    <li>Or send comments to housingpublicmeetings@bendoregon.gov&nbsp;prior to&nbsp;12:00 pm&nbsp;on Wednesday, May 14, 2025. &nbsp;Comments will be shared with committee members.</li></ul><p>To join&nbsp;via Computer&nbsp;(Zoom) use the following link:<a href="https://bendoregon-gov.zoom.us/j/81297683117?pwd=VN5hFclSIw8CyjdjFEqX5ej16SxKio.1">&nbsp;https://bendoregon-gov.zoom.us/j/82674585137?pwd=auRU77400Qn5gIbK2QPbKoKhYR1Bgl.1</a></p><p>Passcode (required): 962127</p><p>Or you may&nbsp;call&nbsp;into the meeting and enter the Webinar ID.</p><p>Call (toll charges may apply):&nbsp; 1-253-215-8782</p><p>&nbsp;&nbsp;&nbsp;&nbsp;&nbsp;&nbsp;&nbsp;&nbsp;&nbsp;&nbsp;&nbsp;&nbsp;&nbsp;&nbsp;&nbsp;&nbsp;Webinar ID:&nbsp;&nbsp;826 7458 5137</p><p>To watch live or later via YouTube:&nbsp;<a href="https://youtube.com/live/j1-QaChWRuk?feature=share" target="_blank">https://youtube.com/live/j1-QaChWRuk?feature=share</a> </p><p>If you have&nbsp;technical difficulties&nbsp;connecting to the meeting, call 541-410-9341</p>
X-ALT-DESC;FMTTYPE=text/html:<p>This meeting will be held in City Hall Council Chambers and via Zoom.&nbsp;&nbsp;Meeting time is 3:00 - 5:00pm</p><p><a href="https://www.bendoregon.gov/home/showdocument?id=62988&amp;t=638824043166567382" target="_blank">Agenda</a></p><p>Public comments for this meeting will be accepted two ways.&nbsp;</p><ul type="disc">    <li>To comment live at the meeting, you&nbsp;must&nbsp;join the meeting&nbsp;via Zoom.&nbsp;</li>    <li>Or send comments to housingpublicmeetings@bendoregon.gov&nbsp;prior to&nbsp;12:00 pm&nbsp;on Wednesday, May 14, 2025. &nbsp;Comments will be shared with committee members.</li></ul><p>To join&nbsp;via Computer&nbsp;(Zoom) use the following link:<a href="https://bendoregon-gov.zoom.us/j/81297683117?pwd=VN5hFclSIw8CyjdjFEqX5ej16SxKio.1">&nbsp;https://bendoregon-gov.zoom.us/j/82674585137?pwd=auRU77400Qn5gIbK2QPbKoKhYR1Bgl.1</a></p><p>Passcode (required): 962127</p><p>Or you may&nbsp;call&nbsp;into the meeting and enter the Webinar ID.</p><p>Call (toll charges may apply):&nbsp; 1-253-215-8782</p><p>&nbsp;&nbsp;&nbsp;&nbsp;&nbsp;&nbsp;&nbsp;&nbsp;&nbsp;&nbsp;&nbsp;&nbsp;&nbsp;&nbsp;&nbsp;&nbsp;Webinar ID:&nbsp;&nbsp;826 7458 5137</p><p>To watch live or later via YouTube:&nbsp;<a href="https://youtube.com/live/j1-QaChWRuk?feature=share" target="_blank">https://youtube.com/live/j1-QaChWRuk?feature=share</a> </p><p>If you have&nbsp;technical difficulties&nbsp;connecting to the meeting, call 541-410-9341</p>
LOCATION:Council Chambers (City Hall)\, 710 NW Wall St Bend\, Oregon 97703
CLASS:PUBLIC
END:VEVENT
END:VCALENDAR
