BEGIN:VCALENDAR
VERSION:2.0
PRODID:City of Bend Calendar Creator
METHOD:PUBLISH
BEGIN:VEVENT
DTSTAMP:20241216T083558
DTSTART:20241219T150000
DTEND:20241219T163000
SUMMARY:CANCELLED: CAAB Development Code Subcommittee Hybrid meeting-December 19, 2024
DESCRIPTION:<h3>For more information on the Core Area Advisory Board, check out the <a href="https://www.bendoregon.gov/government/committees/core-area-advisory-board" target="_blank">CAAB w</a><a href="https://www.bendoregon.gov/government/committees/core-area-advisory-board" target="_blank">ebsite</a></h3><p align="center"><b>NOTICE OF MEETING</b></p><p align="center"><b>CAAB Development Code Subcommittee-December 19, 2024</b></p><p><strong>THIS MEETING HAS BEEN CANCELLED.</strong></p><p align="center" style="text-align: left;"><span style="text-align: left;"><strong><a href="https://bendoregon.prod-as.govaccess.org/home/showpublisheddocument/59571/638573231729670000" target="_blank"></a></strong></span></p><p><span style="color: rgb(192, 0, 0);"></span></p>
X-ALT-DESC;FMTTYPE=text/html:<h3>For more information on the Core Area Advisory Board, check out the <a href="https://www.bendoregon.gov/government/committees/core-area-advisory-board" target="_blank">CAAB w</a><a href="https://www.bendoregon.gov/government/committees/core-area-advisory-board" target="_blank">ebsite</a></h3><p align="center"><b>NOTICE OF MEETING</b></p><p align="center"><b>CAAB Development Code Subcommittee-December 19, 2024</b></p><p><strong>THIS MEETING HAS BEEN CANCELLED.</strong></p><p align="center" style="text-align: left;"><span style="text-align: left;"><strong><a href="https://bendoregon.prod-as.govaccess.org/home/showpublisheddocument/59571/638573231729670000" target="_blank"></a></strong></span></p><p><span style="color: rgb(192, 0, 0);"></span></p>
LOCATION:Council Chambers (City Hall)\, 710 NW Wall St Bend\, Oregon 97703
CLASS:PUBLIC
END:VEVENT
END:VCALENDAR
