BEGIN:VCALENDAR
VERSION:2.0
PRODID:City of Bend Calendar Creator
METHOD:PUBLISH
BEGIN:VEVENT
DTSTAMP:20250204T100009
DTSTART:20250203T120000
DTEND:20250203T140000
SUMMARY:Bend Economic Development Advisory Board (BEDAB)
DESCRIPTION:<p>The Bend Economic Development Advisory Board (BEDAB) will conduct a hybrid meeting through Zoom and in person in the <b><u>Council Chambers</u></b> at 710 NW Wall Street, Bend, OR 97703 on <b><u>Monday February 3,2025</u></b>, from noon to 2:00 pm.</p><p><b><a href="https://bendoregon-gov.zoom.us/j/89479783401?pwd=9wtWwxgKPMobDgFuUROGKNYmuu3u4E.1" target="_blank">Regular Attendees-Zoom Link</a></b></p><p><b>To Attend by Phone:</b></p><ul>    <li><b>Call-in Phone Number: </b>1-888-788-0099</li>    <li><b>Webinar ID: 894 7978 3401</b>#</li>    <li><b>Passcode: 967957</b></li></ul><p><b>YouTube Link: <a href="https://youtube.com/live/WzVn91d22OA?feature=share" target="_blank">Livestream the February BEDAB meeting</a></b></p><p><a href="https://bendoregon.prod-as.govaccess.org/home/showpublisheddocument/62182/638742597484870000" target="_blank"><strong>Agenda</strong></a></p><p><b>Technical Difficulties Connecting to this Meeting: </b>Call 541-410-9341.</p>
X-ALT-DESC;FMTTYPE=text/html:<p>The Bend Economic Development Advisory Board (BEDAB) will conduct a hybrid meeting through Zoom and in person in the <b><u>Council Chambers</u></b> at 710 NW Wall Street, Bend, OR 97703 on <b><u>Monday February 3,2025</u></b>, from noon to 2:00 pm.</p><p><b><a href="https://bendoregon-gov.zoom.us/j/89479783401?pwd=9wtWwxgKPMobDgFuUROGKNYmuu3u4E.1" target="_blank">Regular Attendees-Zoom Link</a></b></p><p><b>To Attend by Phone:</b></p><ul>    <li><b>Call-in Phone Number: </b>1-888-788-0099</li>    <li><b>Webinar ID: 894 7978 3401</b>#</li>    <li><b>Passcode: 967957</b></li></ul><p><b>YouTube Link: <a href="https://youtube.com/live/WzVn91d22OA?feature=share" target="_blank">Livestream the February BEDAB meeting</a></b></p><p><a href="https://bendoregon.prod-as.govaccess.org/home/showpublisheddocument/62182/638742597484870000" target="_blank"><strong>Agenda</strong></a></p><p><b>Technical Difficulties Connecting to this Meeting: </b>Call 541-410-9341.</p>
LOCATION:Council Chambers (City Hall)\, 710 NW Wall St Bend\, Oregon 97703
CLASS:PUBLIC
END:VEVENT
END:VCALENDAR
