BEGIN:VCALENDAR
VERSION:2.0
PRODID:City of Bend Calendar Creator
METHOD:PUBLISH
BEGIN:VEVENT
DTSTAMP:20251017T085019
DTSTART:20251017T100000
DTEND:20251017T130000
SUMMARY:Free Car Seat Clinic
DESCRIPTION:<h1 style="text-align: left;">Free Car Seat Clinic</h1><h3 style="text-align: left;">Certified car seat technicians will help you learn how to correctly install your car seat.</h3><p style="text-align: left;"><strong>2025 Car Seat Clinic Dates:</strong> Feb. 21, Apr. 18, June 20, Aug. 15, Oct. 17, Dec. 19.</p><p style="text-align: left;"><strong>Time: </strong>10 a.m. - 1 p.m.</p><p><strong>Location: </strong>Bend Fire North Station (305), 63377 NE Jamison Street, Bend</p><p>Follow the signs into the bay and one of our technicians will check out your car seat set up.</p><p style="text-align: left;"><strong>Prior to the Clinic:</strong></p><ul>    <li style="text-align: left;">Read through the car seat and vehicle manual</li>    <li style="text-align: left;">Install the car seat to the best of your ability&nbsp;</li></ul><p style="text-align: left;">Visit our website for more information regarding car seat clinics and other community programs:&nbsp;<a href="https://www.bendoregon.gov/government/departments/fire-rescue/community-resources-programs/-fsiteid-1#!/">Community Programs | City of Bend (bendoregon.gov)</a></p>
X-ALT-DESC;FMTTYPE=text/html:<h1 style="text-align: left;">Free Car Seat Clinic</h1><h3 style="text-align: left;">Certified car seat technicians will help you learn how to correctly install your car seat.</h3><p style="text-align: left;"><strong>2025 Car Seat Clinic Dates:</strong> Feb. 21, Apr. 18, June 20, Aug. 15, Oct. 17, Dec. 19.</p><p style="text-align: left;"><strong>Time: </strong>10 a.m. - 1 p.m.</p><p><strong>Location: </strong>Bend Fire North Station (305), 63377 NE Jamison Street, Bend</p><p>Follow the signs into the bay and one of our technicians will check out your car seat set up.</p><p style="text-align: left;"><strong>Prior to the Clinic:</strong></p><ul>    <li style="text-align: left;">Read through the car seat and vehicle manual</li>    <li style="text-align: left;">Install the car seat to the best of your ability&nbsp;</li></ul><p style="text-align: left;">Visit our website for more information regarding car seat clinics and other community programs:&nbsp;<a href="https://www.bendoregon.gov/government/departments/fire-rescue/community-resources-programs/-fsiteid-1#!/">Community Programs | City of Bend (bendoregon.gov)</a></p>
LOCATION:Bend Fire North Station (305)\, 63377 Jamison St Bend\, Oregon 97703
CLASS:PUBLIC
END:VEVENT
END:VCALENDAR
