BEGIN:VCALENDAR
VERSION:2.0
PRODID:City of Bend Calendar Creator
METHOD:PUBLISH
BEGIN:VEVENT
DTSTAMP:20250212T103540
DTSTART:20250123T150000
DTEND:20250123T170000
SUMMARY:Core Area Advisory Hybrid Meeting
DESCRIPTION:<div ng-binding"="" ng-bind-html="viewModel.content.content"><h3>For more information on the Core Area Advisory Board, check out the&nbsp;<a href="https://www.bendoregon.gov/government/committees/core-area-advisory-board" target="_blank">CAAB w</a><a href="https://www.bendoregon.gov/government/committees/core-area-advisory-board" target="_blank">ebsite</a></h3><p align="center"><b>NOTICE OF MEETING</b></p><p align="center"><b>CORE AREA ADVISORY BOARD HYBRID MEETING-February 2025</b></p><p>&nbsp;<strong>AGENDA</strong></p><p><b>MEETING NOTICE</b><br>The Core Area Advisory Board (CAAB) will conduct a meeting virtually through Zoom and in person in Council Chambers at 710 NW Wall Street, Bend, OR 97703 on Thursday, February 20th from 3:00 to 5:00 p.m.</p><p><b>For Committee Members and City Staff:</b></p><p>You will receive a Zoom email confirmation with a personal link/information to connect via computer or phone.</p><p><b>Regular Attendees-Zoom Link:&nbsp;<a href="https://bendoregon-gov.zoom.us/j/85453182609?pwd=DzuuzTuPnjHc8MGY5mTNjkbkUmsT15.1" target="_blank">https://bendoregon-gov.zoom.us/j/85453182609?pwd=DzuuzTuPnjHc8MGY5mTNjkbkUmsT15.1</a></b></p><p><b>To Attend by Phone:&nbsp;</b></p><ul>    <li><b>Call-in Phone Number: </b>669-444-4971</li>    <li><b>Webinar ID: </b>854 5318 2609</li>    <li><b><span style="background-color: rgb(255, 255, 0);">Passcode: </span></b><span style="background-color: rgb(255, 255, 0);">688211</span></li></ul><p><b>YouTube:</b>&nbsp;</p><p><b>Technical Difficulties Connecting to this Meeting:&nbsp;</b>Call 541-410-9341.</p><p><b>Accessible Meeting Information</b></p><p>This meeting/event location is accessible. Sign language interpreter service, assistive listening devices, materials in alternate format such as Braille, large print, electronic formats, or any other accommodations are available upon advance request. Please contact Misty Driggers no later than 24 hours in advance at&nbsp;<a href="mailto:mdriggers@bendoregon.gov?subject=mdriggers@bendoregon.gov" id="mdriggers@bendoregon.gov" title="mdriggers@bendoregon.gov">mdriggers@bendoregon.gov</a>; Relay Users Dial 7-1-1. Providing at least 3 days’ notice prior to the event will help ensure availability.</p></div>
X-ALT-DESC;FMTTYPE=text/html:<div ng-binding"="" ng-bind-html="viewModel.content.content"><h3>For more information on the Core Area Advisory Board, check out the&nbsp;<a href="https://www.bendoregon.gov/government/committees/core-area-advisory-board" target="_blank">CAAB w</a><a href="https://www.bendoregon.gov/government/committees/core-area-advisory-board" target="_blank">ebsite</a></h3><p align="center"><b>NOTICE OF MEETING</b></p><p align="center"><b>CORE AREA ADVISORY BOARD HYBRID MEETING-February 2025</b></p><p>&nbsp;<strong>AGENDA</strong></p><p><b>MEETING NOTICE</b><br>The Core Area Advisory Board (CAAB) will conduct a meeting virtually through Zoom and in person in Council Chambers at 710 NW Wall Street, Bend, OR 97703 on Thursday, February 20th from 3:00 to 5:00 p.m.</p><p><b>For Committee Members and City Staff:</b></p><p>You will receive a Zoom email confirmation with a personal link/information to connect via computer or phone.</p><p><b>Regular Attendees-Zoom Link:&nbsp;<a href="https://bendoregon-gov.zoom.us/j/85453182609?pwd=DzuuzTuPnjHc8MGY5mTNjkbkUmsT15.1" target="_blank">https://bendoregon-gov.zoom.us/j/85453182609?pwd=DzuuzTuPnjHc8MGY5mTNjkbkUmsT15.1</a></b></p><p><b>To Attend by Phone:&nbsp;</b></p><ul>    <li><b>Call-in Phone Number: </b>669-444-4971</li>    <li><b>Webinar ID: </b>854 5318 2609</li>    <li><b><span style="background-color: rgb(255, 255, 0);">Passcode: </span></b><span style="background-color: rgb(255, 255, 0);">688211</span></li></ul><p><b>YouTube:</b>&nbsp;</p><p><b>Technical Difficulties Connecting to this Meeting:&nbsp;</b>Call 541-410-9341.</p><p><b>Accessible Meeting Information</b></p><p>This meeting/event location is accessible. Sign language interpreter service, assistive listening devices, materials in alternate format such as Braille, large print, electronic formats, or any other accommodations are available upon advance request. Please contact Misty Driggers no later than 24 hours in advance at&nbsp;<a href="mailto:mdriggers@bendoregon.gov?subject=mdriggers@bendoregon.gov" id="mdriggers@bendoregon.gov" title="mdriggers@bendoregon.gov">mdriggers@bendoregon.gov</a>; Relay Users Dial 7-1-1. Providing at least 3 days’ notice prior to the event will help ensure availability.</p></div>
LOCATION:Council Chambers (City Hall)\, 710 NW Wall St Bend\, Oregon 97703
CLASS:PUBLIC
END:VEVENT
END:VCALENDAR
