BEGIN:VCALENDAR
VERSION:2.0
PRODID:City of Bend Calendar Creator
METHOD:PUBLISH
BEGIN:VEVENT
DTSTAMP:20250207T141808
DTSTART:20250218T180000
DTEND:20250218T235900
SUMMARY:Landmarks Commission
DESCRIPTION:<p>The meeting convenes at 6:00PM on a hybrid, in-person and virtual Zoom platform.</p><p>Join the meeting using the following options:</p><p>In-person location: City Hall, Council Chambers, 710 NW Wall Street, Bend, OR 97703</p><p>Register via Zoom Online Meeting Link:&nbsp;<a href="https://bendoregon-gov.zoom.us/webinar/register/WN_ioTVyVLCR9yWu_Sq4g1x1Q"><b></b></a></p><p><a href="https://bendoregon-gov.zoom.us/webinar/register/WN_ic5695V3SAKkR3xEhRKm7g"><b>https://bendoregon-gov.zoom.us/webinar/register/WN_ic5695V3SAKkR3xEhRKm7g</b></a><b> </b></p><p>Join by phone: Toll-free:1-888-788-0099</p><p>Webinar ID: 811 8444 9193</p><p>Password: 217507</p><p>The public is invited to watch on-line at:&nbsp;<a href="https://nam11.safelinks.protection.outlook.com/?url=https%3A%2F%2Fyoutube.com%2Flive%2FIof3-EAsh7U%3Ffeature%3Dshare&amp;data=05%7C02%7Cmstonge%40bendoregon.gov%7Cb9168402989f44eea2a008dd45774376%7C1c15334815ef4708aebf1e25e57dc400%7C0%7C0%7C638743100716403082%7CUnknown%7CTWFpbGZsb3d8eyJFbXB0eU1hcGkiOnRydWUsIlYiOiIwLjAuMDAwMCIsIlAiOiJXaW4zMiIsIkFOIjoiTWFpbCIsIldUIjoyfQ%3D%3D%7C0%7C%7C%7C&amp;sdata=kAM2%2FTZEx787A1ctxpUcikWowlx4jqVvRv6pu6pYhl8%3D&amp;reserved=0" target="_blank"><b>https://youtube.com/live/Iof3-EAsh7U?feature=share</b></a></p><p>View the meeting Agenda at the following link:&nbsp;<a href="https://bendoregon.prod-as.govaccess.org/home/showpublisheddocument/62218/638745343723930000" target="_blank"><strong>Landmarks Commission Agenda 2-18-25</strong></a></p>
X-ALT-DESC;FMTTYPE=text/html:<p>The meeting convenes at 6:00PM on a hybrid, in-person and virtual Zoom platform.</p><p>Join the meeting using the following options:</p><p>In-person location: City Hall, Council Chambers, 710 NW Wall Street, Bend, OR 97703</p><p>Register via Zoom Online Meeting Link:&nbsp;<a href="https://bendoregon-gov.zoom.us/webinar/register/WN_ioTVyVLCR9yWu_Sq4g1x1Q"><b></b></a></p><p><a href="https://bendoregon-gov.zoom.us/webinar/register/WN_ic5695V3SAKkR3xEhRKm7g"><b>https://bendoregon-gov.zoom.us/webinar/register/WN_ic5695V3SAKkR3xEhRKm7g</b></a><b> </b></p><p>Join by phone: Toll-free:1-888-788-0099</p><p>Webinar ID: 811 8444 9193</p><p>Password: 217507</p><p>The public is invited to watch on-line at:&nbsp;<a href="https://nam11.safelinks.protection.outlook.com/?url=https%3A%2F%2Fyoutube.com%2Flive%2FIof3-EAsh7U%3Ffeature%3Dshare&amp;data=05%7C02%7Cmstonge%40bendoregon.gov%7Cb9168402989f44eea2a008dd45774376%7C1c15334815ef4708aebf1e25e57dc400%7C0%7C0%7C638743100716403082%7CUnknown%7CTWFpbGZsb3d8eyJFbXB0eU1hcGkiOnRydWUsIlYiOiIwLjAuMDAwMCIsIlAiOiJXaW4zMiIsIkFOIjoiTWFpbCIsIldUIjoyfQ%3D%3D%7C0%7C%7C%7C&amp;sdata=kAM2%2FTZEx787A1ctxpUcikWowlx4jqVvRv6pu6pYhl8%3D&amp;reserved=0" target="_blank"><b>https://youtube.com/live/Iof3-EAsh7U?feature=share</b></a></p><p>View the meeting Agenda at the following link:&nbsp;<a href="https://bendoregon.prod-as.govaccess.org/home/showpublisheddocument/62218/638745343723930000" target="_blank"><strong>Landmarks Commission Agenda 2-18-25</strong></a></p>
LOCATION:Council Chambers (City Hall)\, 710 NW Wall St Bend\, Oregon 97703
CLASS:PUBLIC
END:VEVENT
END:VCALENDAR
