BEGIN:VCALENDAR
VERSION:2.0
PRODID:City of Bend Calendar Creator
METHOD:PUBLISH
BEGIN:VEVENT
DTSTAMP:20250219T115233
DTSTART:20250224T140000
DTEND:20250224T160000
SUMMARY:Joint Advisory Body (ECC/BEDAB/AHAC) Electrification Policy Meeting
DESCRIPTION:<div ltr="" scxw224853781="" bcx8"=""><p scxw224853781="" role="heading" aria-level="2" paraid="1959942326" paraeid="{8ff134f7-69bf-49cc-bba6-23235cb2c9a2}{9}">The&nbsp;Environment &amp; Climate Committee (ECC), Bend Economic Development Advisory Board (BEDAB), and Affordable Housing Advisory Committee (AHAC) will conduct a joint meeting regarding electrification policy in person in Council Chambers at City Hall (710 NW Wall Street, Bend OR) and online on Monday, February 24, from 2-4 p.m.</p><p scxw224853781="" role="heading" aria-level="2" paraid="1959942326" paraeid="{8ff134f7-69bf-49cc-bba6-23235cb2c9a2}{9}"><strong><a href="https://bendoregon.prod-as.govaccess.org/home/showpublisheddocument/62262/638754873212370000" target="_blank">Agenda</a></strong>&nbsp;</p><p scxw224853781="" role="heading" aria-level="2" paraid="1959942326" paraeid="{8ff134f7-69bf-49cc-bba6-23235cb2c9a2}{9}"><strong>To attend via zoom</strong>, <a href="https://bendoregon-gov.zoom.us/webinar/register/WN_U2En7-38S9O5LSqwz5ApgQ " target="_blank">pre-register.</a></p><p scxw224853781="" role="heading" aria-level="2" paraid="1959942326" paraeid="{8ff134f7-69bf-49cc-bba6-23235cb2c9a2}{9}"><strong>To attend by phone:</strong></p><p scxw224853781="" role="heading" aria-level="2" paraid="1959942326" paraeid="{8ff134f7-69bf-49cc-bba6-23235cb2c9a2}{9}" style="margin-left: 40px;"><strong>Call-in Phone Number:</strong>&nbsp;1-888-788-0099</p><p scxw224853781="" role="heading" aria-level="2" paraid="1959942326" paraeid="{8ff134f7-69bf-49cc-bba6-23235cb2c9a2}{9}" style="margin-left: 40px;"><strong>Webinar ID:&nbsp;</strong>822 5827 1569&nbsp;</p><p scxw224853781="" role="heading" aria-level="2" paraid="1959942326" paraeid="{8ff134f7-69bf-49cc-bba6-23235cb2c9a2}{9}" style="margin-left: 40px;"><strong>Passcode</strong>, if prompted: 712572<button data-v-532e5fab="" type="button" zm-button--link="" zm-button--small="" zm-button"="" aria-label="hide passcode">Hide</button><div data-v-85776206=""><div data-v-85776206=""><div data-v-85776206="" is-no-asterisk="" split-line="" registration-item="" detail-item"="" meetingid="[object Object]"><div></div></div></div></div></p><p scxw224853781="" role="heading" aria-level="2" paraid="1959942326" paraeid="{8ff134f7-69bf-49cc-bba6-23235cb2c9a2}{9}" style=""><strong>YouTube Link:</strong> <a href="https://youtube.com/live/MQG72_9-uY8?feature=share" target="_blank">Livestream the Electrification Policy Meeting</a></p><p scxw224853781="" role="heading" aria-level="2" paraid="1959942326" paraeid="{8ff134f7-69bf-49cc-bba6-23235cb2c9a2}{9}" style=""><b>Technical Difficulties Connecting to this Meeting:&nbsp;</b>Call 541-410-9341.</p></div>
X-ALT-DESC;FMTTYPE=text/html:<div ltr="" scxw224853781="" bcx8"=""><p scxw224853781="" role="heading" aria-level="2" paraid="1959942326" paraeid="{8ff134f7-69bf-49cc-bba6-23235cb2c9a2}{9}">The&nbsp;Environment &amp; Climate Committee (ECC), Bend Economic Development Advisory Board (BEDAB), and Affordable Housing Advisory Committee (AHAC) will conduct a joint meeting regarding electrification policy in person in Council Chambers at City Hall (710 NW Wall Street, Bend OR) and online on Monday, February 24, from 2-4 p.m.</p><p scxw224853781="" role="heading" aria-level="2" paraid="1959942326" paraeid="{8ff134f7-69bf-49cc-bba6-23235cb2c9a2}{9}"><strong><a href="https://bendoregon.prod-as.govaccess.org/home/showpublisheddocument/62262/638754873212370000" target="_blank">Agenda</a></strong>&nbsp;</p><p scxw224853781="" role="heading" aria-level="2" paraid="1959942326" paraeid="{8ff134f7-69bf-49cc-bba6-23235cb2c9a2}{9}"><strong>To attend via zoom</strong>, <a href="https://bendoregon-gov.zoom.us/webinar/register/WN_U2En7-38S9O5LSqwz5ApgQ " target="_blank">pre-register.</a></p><p scxw224853781="" role="heading" aria-level="2" paraid="1959942326" paraeid="{8ff134f7-69bf-49cc-bba6-23235cb2c9a2}{9}"><strong>To attend by phone:</strong></p><p scxw224853781="" role="heading" aria-level="2" paraid="1959942326" paraeid="{8ff134f7-69bf-49cc-bba6-23235cb2c9a2}{9}" style="margin-left: 40px;"><strong>Call-in Phone Number:</strong>&nbsp;1-888-788-0099</p><p scxw224853781="" role="heading" aria-level="2" paraid="1959942326" paraeid="{8ff134f7-69bf-49cc-bba6-23235cb2c9a2}{9}" style="margin-left: 40px;"><strong>Webinar ID:&nbsp;</strong>822 5827 1569&nbsp;</p><p scxw224853781="" role="heading" aria-level="2" paraid="1959942326" paraeid="{8ff134f7-69bf-49cc-bba6-23235cb2c9a2}{9}" style="margin-left: 40px;"><strong>Passcode</strong>, if prompted: 712572<button data-v-532e5fab="" type="button" zm-button--link="" zm-button--small="" zm-button"="" aria-label="hide passcode">Hide</button><div data-v-85776206=""><div data-v-85776206=""><div data-v-85776206="" is-no-asterisk="" split-line="" registration-item="" detail-item"="" meetingid="[object Object]"><div></div></div></div></div></p><p scxw224853781="" role="heading" aria-level="2" paraid="1959942326" paraeid="{8ff134f7-69bf-49cc-bba6-23235cb2c9a2}{9}" style=""><strong>YouTube Link:</strong> <a href="https://youtube.com/live/MQG72_9-uY8?feature=share" target="_blank">Livestream the Electrification Policy Meeting</a></p><p scxw224853781="" role="heading" aria-level="2" paraid="1959942326" paraeid="{8ff134f7-69bf-49cc-bba6-23235cb2c9a2}{9}" style=""><b>Technical Difficulties Connecting to this Meeting:&nbsp;</b>Call 541-410-9341.</p></div>
LOCATION:Council Chambers (City Hall)\, 710 NW Wall St Bend\, Oregon 97703
CLASS:PUBLIC
END:VEVENT
END:VCALENDAR
