BEGIN:VCALENDAR
VERSION:2.0
PRODID:City of Bend Calendar Creator
METHOD:PUBLISH
BEGIN:VEVENT
DTSTAMP:20250303T115842
DTSTART:20250318T180000
DTEND:20250318T235900
SUMMARY:CANCELLED: Landmarks Commission
DESCRIPTION:<p>The 3/18/25 Landmarks Commission meeting has been cancelled. Please visit the&nbsp;<a href="https://www.bendoregon.gov/government/committees/landmarks-commission/-fsiteid-1#!/">Landmarks Commission | City of Bend</a>&nbsp;webpage for future meetings.&nbsp;</p>
X-ALT-DESC;FMTTYPE=text/html:<p>The 3/18/25 Landmarks Commission meeting has been cancelled. Please visit the&nbsp;<a href="https://www.bendoregon.gov/government/committees/landmarks-commission/-fsiteid-1#!/">Landmarks Commission | City of Bend</a>&nbsp;webpage for future meetings.&nbsp;</p>
LOCATION:Council Chambers (City Hall)\, 710 NW Wall St Bend\, Oregon 97703
CLASS:PUBLIC
END:VEVENT
END:VCALENDAR
