BEGIN:VCALENDAR
VERSION:2.0
PRODID:City of Bend Calendar Creator
METHOD:PUBLISH
BEGIN:VEVENT
DTSTAMP:20251027T112804
DTSTART:20251028T150000
DTEND:20251028T170000
SUMMARY:Affordable Housing Advisory Committee (AHAC) Meeting
DESCRIPTION:<p>This meeting will be held in City Hall Council Chambers and via Zoom.&nbsp;&nbsp;Meeting time is 3:00 - 5:00pm</p><p><a href="https://bendoregon.prod-as.govaccess.org/home/showpublisheddocument/64283/638971577940770000" target="_blank" rel="noopener">Click here for the Agenda</a></p><p>Public comments for this meeting will be accepted two ways.&nbsp;</p><ul type="disc">    <li>To comment live at the meeting, you&nbsp;must&nbsp;join the meeting&nbsp;via Zoom.&nbsp;</li>    <li>Or send comments to housingpublicmeetings@bendoregon.gov&nbsp;prior to&nbsp;12:00 pm&nbsp;on Wednesday, October 28, 2025. &nbsp;Comments will be shared with committee members.</li></ul><p>To join&nbsp;via Computer&nbsp;(Zoom) use the following link: <a href="https://bendoregon-gov.zoom.us/j/89255146358?pwd=tYa3oGfFta7aglJGv2ibaaMxFrLSmR.1" target="_blank" rel="noopener">AHAC October Zoom Link</a></p><p>&nbsp;Webinar ID:&nbsp; 892 5514 6358&nbsp;</p><p>Passcode (required): 876081</p><p>Or you may&nbsp;call&nbsp;into the meeting and enter the Webinar ID.</p><p>Call (toll charges may apply): 1-253-205-4580</p><p>To watch live or later via YouTube: <a href="https://youtube.com/live/znP_Td0QIRA?feature=share" target="_blank" rel="noopener">AHAC YouTube Livestream</a></p><p>If you have&nbsp;technical difficulties&nbsp;connecting to the meeting, call 541-410-9341</p>
X-ALT-DESC;FMTTYPE=text/html:<p>This meeting will be held in City Hall Council Chambers and via Zoom.&nbsp;&nbsp;Meeting time is 3:00 - 5:00pm</p><p><a href="https://bendoregon.prod-as.govaccess.org/home/showpublisheddocument/64283/638971577940770000" target="_blank" rel="noopener">Click here for the Agenda</a></p><p>Public comments for this meeting will be accepted two ways.&nbsp;</p><ul type="disc">    <li>To comment live at the meeting, you&nbsp;must&nbsp;join the meeting&nbsp;via Zoom.&nbsp;</li>    <li>Or send comments to housingpublicmeetings@bendoregon.gov&nbsp;prior to&nbsp;12:00 pm&nbsp;on Wednesday, October 28, 2025. &nbsp;Comments will be shared with committee members.</li></ul><p>To join&nbsp;via Computer&nbsp;(Zoom) use the following link: <a href="https://bendoregon-gov.zoom.us/j/89255146358?pwd=tYa3oGfFta7aglJGv2ibaaMxFrLSmR.1" target="_blank" rel="noopener">AHAC October Zoom Link</a></p><p>&nbsp;Webinar ID:&nbsp; 892 5514 6358&nbsp;</p><p>Passcode (required): 876081</p><p>Or you may&nbsp;call&nbsp;into the meeting and enter the Webinar ID.</p><p>Call (toll charges may apply): 1-253-205-4580</p><p>To watch live or later via YouTube: <a href="https://youtube.com/live/znP_Td0QIRA?feature=share" target="_blank" rel="noopener">AHAC YouTube Livestream</a></p><p>If you have&nbsp;technical difficulties&nbsp;connecting to the meeting, call 541-410-9341</p>
LOCATION:Council Chambers (City Hall)\, 710 NW Wall St Bend\, Oregon 97703
CLASS:PUBLIC
END:VEVENT
END:VCALENDAR
