BEGIN:VCALENDAR
VERSION:2.0
PRODID:City of Bend Calendar Creator
METHOD:PUBLISH
BEGIN:VEVENT
DTSTAMP:20251209T152039
DTSTART:20251216T150000
DTEND:20251216T170000
SUMMARY:Affordable Housing Advisory Committee (AHAC) Meeting
DESCRIPTION:<p>This meeting will be held in City Hall Council Chambers and via Zoom.&nbsp;&nbsp;Meeting time is 3:00 - 5:00pm</p><p><a href="https://bendoregon.prod-as.govaccess.org/home/showpublisheddocument/64596/639008902049930000" target="_blank" rel="noopener">Agenda</a>:</p><p>Public comments for this meeting will be accepted two ways.&nbsp;</p><ul type="disc">    <li>To comment live at the meeting, you&nbsp;must&nbsp;join the meeting&nbsp;via Zoom.&nbsp;</li>    <li>Or send comments to housingpublicmeetings@bendoregon.gov&nbsp;prior to&nbsp;12:00 pm&nbsp;on Tuesday, December 16, 2025. &nbsp;Comments will be shared with committee members.</li></ul><p>To join&nbsp;via Computer&nbsp;(Zoom) use the following&nbsp;&nbsp;<a href="https://bendoregon-gov.zoom.us/j/81928111976?pwd=uz30JTbeBKRcegJp8xahRlb5dReZbW.1" target="_blank" rel="noopener">AHAC December Zoom Link</a></p><p>Webinar ID:&nbsp; 819 2811 1976</p><p>Passcode (required):890619</p><p>Or you may&nbsp;call&nbsp;into the meeting and enter the Webinar ID.</p><p>Call (toll charges may apply):&nbsp; 1-888-788-0099&nbsp;</p><p>&nbsp;&nbsp;&nbsp;&nbsp;&nbsp;&nbsp;&nbsp;&nbsp;&nbsp;&nbsp;&nbsp;&nbsp;&nbsp;&nbsp;&nbsp;&nbsp;Webinar ID:&nbsp; 819 2811 1976</p><p>To watch live or later via YouTube: <a href="https://youtube.com/live/9wthwdJtyM0?feature=share" target="_blank" rel="noopener">AHAC YouTube Link</a></p>
X-ALT-DESC;FMTTYPE=text/html:<p>This meeting will be held in City Hall Council Chambers and via Zoom.&nbsp;&nbsp;Meeting time is 3:00 - 5:00pm</p><p><a href="https://bendoregon.prod-as.govaccess.org/home/showpublisheddocument/64596/639008902049930000" target="_blank" rel="noopener">Agenda</a>:</p><p>Public comments for this meeting will be accepted two ways.&nbsp;</p><ul type="disc">    <li>To comment live at the meeting, you&nbsp;must&nbsp;join the meeting&nbsp;via Zoom.&nbsp;</li>    <li>Or send comments to housingpublicmeetings@bendoregon.gov&nbsp;prior to&nbsp;12:00 pm&nbsp;on Tuesday, December 16, 2025. &nbsp;Comments will be shared with committee members.</li></ul><p>To join&nbsp;via Computer&nbsp;(Zoom) use the following&nbsp;&nbsp;<a href="https://bendoregon-gov.zoom.us/j/81928111976?pwd=uz30JTbeBKRcegJp8xahRlb5dReZbW.1" target="_blank" rel="noopener">AHAC December Zoom Link</a></p><p>Webinar ID:&nbsp; 819 2811 1976</p><p>Passcode (required):890619</p><p>Or you may&nbsp;call&nbsp;into the meeting and enter the Webinar ID.</p><p>Call (toll charges may apply):&nbsp; 1-888-788-0099&nbsp;</p><p>&nbsp;&nbsp;&nbsp;&nbsp;&nbsp;&nbsp;&nbsp;&nbsp;&nbsp;&nbsp;&nbsp;&nbsp;&nbsp;&nbsp;&nbsp;&nbsp;Webinar ID:&nbsp; 819 2811 1976</p><p>To watch live or later via YouTube: <a href="https://youtube.com/live/9wthwdJtyM0?feature=share" target="_blank" rel="noopener">AHAC YouTube Link</a></p>
LOCATION:Council Chambers (City Hall)\, 710 NW Wall St Bend\, Oregon 97703
CLASS:PUBLIC
END:VEVENT
END:VCALENDAR
