BEGIN:VCALENDAR
VERSION:2.0
PRODID:City of Bend Calendar Creator
METHOD:PUBLISH
BEGIN:VEVENT
DTSTAMP:20250408T155309
DTSTART:20250415T180000
DTEND:20250415T235900
SUMMARY:Landmarks Commission
DESCRIPTION:<p>The meeting convenes at 6:00PM on a hybrid, in-person and virtual Zoom platform.</p><p>Join the meeting using the following options:</p><p>In-person location: City Hall, Council Chambers, 710 NW Wall Street, Bend, OR 97703</p><p>Register via Zoom Online Meeting Link:&nbsp;<a href="https://bendoregon-gov.zoom.us/webinar/register/WN_l6d3iogmTfaC-h3P56hI5A"><b>https://bendoregon-gov.zoom.us/webinar/register/WN_l6d3iogmTfaC-h3P56hI5A</b></a></p><p>Join by phone: Toll-free:1-888-788-0099</p><p>Webinar ID: 820 7018 5192</p><p>Password: 292512</p><p>The public is invited to watch on-line at: <a href="https://youtube.com/live/Nj9QA_jChXk?feature=share"><b>https://youtube.com/live/Nj9QA_jChXk?feature=share</b></a></p><p>View the meeting Agenda at the following link: <a href="https://www.bendoregon.gov/home/showpublisheddocument/62218/638745343723930000" target="_blank">Landmarks Commission Agenda 4/15/25</a></p>
X-ALT-DESC;FMTTYPE=text/html:<p>The meeting convenes at 6:00PM on a hybrid, in-person and virtual Zoom platform.</p><p>Join the meeting using the following options:</p><p>In-person location: City Hall, Council Chambers, 710 NW Wall Street, Bend, OR 97703</p><p>Register via Zoom Online Meeting Link:&nbsp;<a href="https://bendoregon-gov.zoom.us/webinar/register/WN_l6d3iogmTfaC-h3P56hI5A"><b>https://bendoregon-gov.zoom.us/webinar/register/WN_l6d3iogmTfaC-h3P56hI5A</b></a></p><p>Join by phone: Toll-free:1-888-788-0099</p><p>Webinar ID: 820 7018 5192</p><p>Password: 292512</p><p>The public is invited to watch on-line at: <a href="https://youtube.com/live/Nj9QA_jChXk?feature=share"><b>https://youtube.com/live/Nj9QA_jChXk?feature=share</b></a></p><p>View the meeting Agenda at the following link: <a href="https://www.bendoregon.gov/home/showpublisheddocument/62218/638745343723930000" target="_blank">Landmarks Commission Agenda 4/15/25</a></p>
LOCATION:Council Chambers (City Hall)\, 710 NW Wall St Bend\, Oregon 97703
CLASS:PUBLIC
END:VEVENT
END:VCALENDAR
