BEGIN:VCALENDAR
VERSION:2.0
PRODID:City of Bend Calendar Creator
METHOD:PUBLISH
BEGIN:VEVENT
DTSTAMP:20250910T082238
DTSTART:20250918T150000
DTEND:20250918T170000
SUMMARY:Core Area Advisory Board Hybrid Meeting - Sept. 2025
DESCRIPTION:<h3>For more information on the Core Area Advisory Board, check out the&nbsp;<a href="https://www.bendoregon.gov/government/committees/core-area-advisory-board" target="_blank">CAAB website</a></h3><p><b>MEETING NOTICE</b></p><p>The Core Area Advisory Board (CAAB) will conduct a meeting virtually through Zoom and in person in Council Chambers at 710 NW Wall Street, Bend, OR 97703 on Thursday, Sept 18, 2025, from 3:00 to 5:00 p.m.</p><p><b>For Committee Members and City Staff:</b></p><p>You will receive a Zoom email confirmation with a personal link/information to connect via computer or phone.</p><p><b>Regular Attendees-Zoom Link:&nbsp;</b><a href="https://bendoregon-gov.zoom.us/j/81806090191?pwd=sVEjtMBjQHjv8ZmvmQ7gLbIwQWQNxx.1">https://bendoregon-gov.zoom.us/j/85719841764?pwd=yVMIA8UdY0u7MiTdcQOAniUEnl5l3z.1</a></p><p><b>To Attend by Phone:</b></p><ul>    <li><b>Call-in Phone Number:&nbsp;</b>1-253-205-0468</li>    <li><b>Webinar ID:&nbsp;</b>857 1984 1764</li>    <li><b>Passcode:&nbsp;</b>397262</li></ul><p><b>YouTube:</b>&nbsp;<a href="https://youtube.com/live/ozzHaYGHZkc?feature=share" target="_blank">https://youtube.com/live/ozzHaYGHZkc?feature=share</a></p><p><b>Technical Difficulties Connecting to this Meeting:&nbsp;</b>Call 541-410-9341.</p><p><b>Accessible Meeting Information</b></p><p>This meeting/event location is accessible. Sign language interpreter service, assistive listening devices, materials in alternate format such as Braille, large print, electronic formats, or any other accommodations are available upon advance request. Please contact Misty Driggers no later than 24 hours in advance at&nbsp;<b><a href="mailto:&#109;&#100;&#114;&#105;&#103;&#103;&#101;&#114;&#115;&#64;&#98;&#101;&#110;&#100;&#111;&#114;&#101;&#103;&#111;&#110;&#46;&#103;&#111;&#118;">mdriggers@bendoregon.gov</a></b>&nbsp;or call 541-388-5505; Relay Users Dial 7-1-1. Providing at least 3 days’ notice prior to the event will help ensure availability.</p>
X-ALT-DESC;FMTTYPE=text/html:<h3>For more information on the Core Area Advisory Board, check out the&nbsp;<a href="https://www.bendoregon.gov/government/committees/core-area-advisory-board" target="_blank">CAAB website</a></h3><p><b>MEETING NOTICE</b></p><p>The Core Area Advisory Board (CAAB) will conduct a meeting virtually through Zoom and in person in Council Chambers at 710 NW Wall Street, Bend, OR 97703 on Thursday, Sept 18, 2025, from 3:00 to 5:00 p.m.</p><p><b>For Committee Members and City Staff:</b></p><p>You will receive a Zoom email confirmation with a personal link/information to connect via computer or phone.</p><p><b>Regular Attendees-Zoom Link:&nbsp;</b><a href="https://bendoregon-gov.zoom.us/j/81806090191?pwd=sVEjtMBjQHjv8ZmvmQ7gLbIwQWQNxx.1">https://bendoregon-gov.zoom.us/j/85719841764?pwd=yVMIA8UdY0u7MiTdcQOAniUEnl5l3z.1</a></p><p><b>To Attend by Phone:</b></p><ul>    <li><b>Call-in Phone Number:&nbsp;</b>1-253-205-0468</li>    <li><b>Webinar ID:&nbsp;</b>857 1984 1764</li>    <li><b>Passcode:&nbsp;</b>397262</li></ul><p><b>YouTube:</b>&nbsp;<a href="https://youtube.com/live/ozzHaYGHZkc?feature=share" target="_blank">https://youtube.com/live/ozzHaYGHZkc?feature=share</a></p><p><b>Technical Difficulties Connecting to this Meeting:&nbsp;</b>Call 541-410-9341.</p><p><b>Accessible Meeting Information</b></p><p>This meeting/event location is accessible. Sign language interpreter service, assistive listening devices, materials in alternate format such as Braille, large print, electronic formats, or any other accommodations are available upon advance request. Please contact Misty Driggers no later than 24 hours in advance at&nbsp;<b><a href="mailto:&#109;&#100;&#114;&#105;&#103;&#103;&#101;&#114;&#115;&#64;&#98;&#101;&#110;&#100;&#111;&#114;&#101;&#103;&#111;&#110;&#46;&#103;&#111;&#118;">mdriggers@bendoregon.gov</a></b>&nbsp;or call 541-388-5505; Relay Users Dial 7-1-1. Providing at least 3 days’ notice prior to the event will help ensure availability.</p>
LOCATION:Council Chambers (City Hall)\, 710 NW Wall St Bend\, Oregon 97703
CLASS:PUBLIC
END:VEVENT
END:VCALENDAR
