BEGIN:VCALENDAR
VERSION:2.0
PRODID:City of Bend Calendar Creator
METHOD:PUBLISH
BEGIN:VEVENT
DTSTAMP:20250825T095339
DTSTART:20250827T163000
DTEND:20250827T183000
SUMMARY:Alt Meeting: Human Rights and Equity Commission Regular VIRTUAL ONLY Meeting - Ends at 6:00 PM
DESCRIPTION:<p>&nbsp;</p><h2></h2><h2>The Human Rights and Equity Commission <em>Virtual Only</em> Meeting Notice - Ends at 6:00 PM.</h2><p>The&nbsp;<a href="https://www.bendoregon.gov/government/committees/human-rights-and-equity-commission" target="_blank" id="Human Rights and Equity Commission"><strong>Human Rights and Equity Commission</strong></a>&nbsp;(HREC) will conduct this virtual meeting only via Zoom on August 27, 2025, with an al.t time from 4:30 to 6:00 p.m.&nbsp;Virtual attendees must pre-register to receive a personalized Zoom link to join this meeting.</p><p><strong>To Attend by Computer, <a href="https://bendoregon-gov.zoom.us/webinar/register/WN_vk_oRw4FTM6aktJO-3Fflg" target="_blank">Pre-Register</a>:</strong></p><p><strong>&nbsp;</strong>You will receive an email confirmation with a personized link informing you how to connect via computer or phone.</p><p><strong>To Attend by Phone (No Pre-Registration Required):</strong></p><ul>    <li><strong>Dial Toll-Free:&nbsp;</strong>1-888-788-0099</li>    <li><strong>Webinar ID:</strong>&nbsp;816 1873 3897</li>    <li><strong>Passcode, if prompted:</strong>&nbsp;4732 (HREC)</li></ul><p><strong><a href="https://youtube.com/live/M-lVPnRD3FI?feature=share" target="_blank">Watch the HREC regular virtual meeting only, live at 4:30 PM.</a></strong></p><p><strong>Technical Difficulties Connecting to this meeting:&nbsp;</strong>Call 541-410-9341.</p><h3>Language Assistance Services &amp; Accommodation Information for People with Disabilities</h3><p>You can obtain this information in alternate formats such as Braille, electronic format, etc. Free language assistance services are also available. Please contact the Equity &amp; Inclusion Director, Andrés Portela, He, Him, El, at <a href="mailto:equity@bendoregon.gov?subject=equity@bendoregon.gov" id="equity@bendoregon.gov" title="equity@bendoregon.gov"><b>equity@bendoregon.gov</b></a>&nbsp;or 541-323-8563. Relay Users Dial 7-1-1.</p><h3>Servicios de asistencia lingüística e información sobre alojamiento para personas con discapacidad</h3><p>Puede obtener esta información en formatos alternativos como Braille, formato electrónico, etc. También disponemos de servicios gratuitos de asistencia lingüística. Póngase en contacto con Gestor del proyecto o creador del documento en correo electrónico <a href="mailto:equity@bendoregon.gov?subject=equity@bendoregon.gov" id="equity@bendoregon.gov" title="equity@bendoregon.gov"><b>equity@bendoregon.gov</b></a> o número de teléfono 541-323- 8563. Los usuarios del servicio de retransmisión deben marcar el 7-1-1.</p>
X-ALT-DESC;FMTTYPE=text/html:<p>&nbsp;</p><h2></h2><h2>The Human Rights and Equity Commission <em>Virtual Only</em> Meeting Notice - Ends at 6:00 PM.</h2><p>The&nbsp;<a href="https://www.bendoregon.gov/government/committees/human-rights-and-equity-commission" target="_blank" id="Human Rights and Equity Commission"><strong>Human Rights and Equity Commission</strong></a>&nbsp;(HREC) will conduct this virtual meeting only via Zoom on August 27, 2025, with an al.t time from 4:30 to 6:00 p.m.&nbsp;Virtual attendees must pre-register to receive a personalized Zoom link to join this meeting.</p><p><strong>To Attend by Computer, <a href="https://bendoregon-gov.zoom.us/webinar/register/WN_vk_oRw4FTM6aktJO-3Fflg" target="_blank">Pre-Register</a>:</strong></p><p><strong>&nbsp;</strong>You will receive an email confirmation with a personized link informing you how to connect via computer or phone.</p><p><strong>To Attend by Phone (No Pre-Registration Required):</strong></p><ul>    <li><strong>Dial Toll-Free:&nbsp;</strong>1-888-788-0099</li>    <li><strong>Webinar ID:</strong>&nbsp;816 1873 3897</li>    <li><strong>Passcode, if prompted:</strong>&nbsp;4732 (HREC)</li></ul><p><strong><a href="https://youtube.com/live/M-lVPnRD3FI?feature=share" target="_blank">Watch the HREC regular virtual meeting only, live at 4:30 PM.</a></strong></p><p><strong>Technical Difficulties Connecting to this meeting:&nbsp;</strong>Call 541-410-9341.</p><h3>Language Assistance Services &amp; Accommodation Information for People with Disabilities</h3><p>You can obtain this information in alternate formats such as Braille, electronic format, etc. Free language assistance services are also available. Please contact the Equity &amp; Inclusion Director, Andrés Portela, He, Him, El, at <a href="mailto:equity@bendoregon.gov?subject=equity@bendoregon.gov" id="equity@bendoregon.gov" title="equity@bendoregon.gov"><b>equity@bendoregon.gov</b></a>&nbsp;or 541-323-8563. Relay Users Dial 7-1-1.</p><h3>Servicios de asistencia lingüística e información sobre alojamiento para personas con discapacidad</h3><p>Puede obtener esta información en formatos alternativos como Braille, formato electrónico, etc. También disponemos de servicios gratuitos de asistencia lingüística. Póngase en contacto con Gestor del proyecto o creador del documento en correo electrónico <a href="mailto:equity@bendoregon.gov?subject=equity@bendoregon.gov" id="equity@bendoregon.gov" title="equity@bendoregon.gov"><b>equity@bendoregon.gov</b></a> o número de teléfono 541-323- 8563. Los usuarios del servicio de retransmisión deben marcar el 7-1-1.</p>
LOCATION:Council Chambers (City Hall)\, 710 NW Wall St Bend\, Oregon 97703
CLASS:PUBLIC
END:VEVENT
END:VCALENDAR
