BEGIN:VCALENDAR
VERSION:2.0
PRODID:City of Bend Calendar Creator
METHOD:PUBLISH
BEGIN:VEVENT
DTSTAMP:20250926T123820
DTSTART:20250930T163000
DTEND:20250930T183000
SUMMARY:CANCELED: Alt-Date: Human Rights and Equity Commission Hybrid Meeting
DESCRIPTION:<h2>Notice of Public Hybrid Meeting Alt-Date Canceled:</h2><p>The September 30, 2025,&nbsp;<a href="https://www.bendoregon.gov/government/committees/human-rights-and-equity-commission" target="_blank" id="Human Rights and Equity Commission"><strong>Human Rights and Equity Commission</strong></a> (HREC) meeting is canceled and will reconvene the 30th of October. We look forward to meeting with you.</p><h3>Language Assistance Services &amp; Accommodation Information for People with Disabilities</h3><p>You can obtain this information in alternate formats such as Braille, electronic format, etc. Free language assistance services are also available. Please email&nbsp;<a href="mailto:equity@bendoregon.gov?subject=equity@bendoregon.gov" id="equity@bendoregon.gov" title="equity@bendoregon.gov"><b>equity@bendoregon.gov</b></a>. Relay Users Dial 7-1-1.</p><h3>Servicios de asistencia lingüística e información sobre alojamiento para personas con discapacidad</h3><p>Puede obtener esta información en formatos alternativos como Braille, formato electrónico, etc. También disponemos de servicios gratuitos de asistencia lingüística. Póngase en contacto con Gestor del proyecto o creador del documento en correo electrónico <a href="mailto:equity@bendoregon.gov?subject=equity@bendoregon.gov" id="equity@bendoregon.gov" title="equity@bendoregon.gov"><b>equity@bendoregon.gov</b></a>. Los usuarios del servicio de retransmisión deben marcar el 7-1-1.</p>
X-ALT-DESC;FMTTYPE=text/html:<h2>Notice of Public Hybrid Meeting Alt-Date Canceled:</h2><p>The September 30, 2025,&nbsp;<a href="https://www.bendoregon.gov/government/committees/human-rights-and-equity-commission" target="_blank" id="Human Rights and Equity Commission"><strong>Human Rights and Equity Commission</strong></a> (HREC) meeting is canceled and will reconvene the 30th of October. We look forward to meeting with you.</p><h3>Language Assistance Services &amp; Accommodation Information for People with Disabilities</h3><p>You can obtain this information in alternate formats such as Braille, electronic format, etc. Free language assistance services are also available. Please email&nbsp;<a href="mailto:equity@bendoregon.gov?subject=equity@bendoregon.gov" id="equity@bendoregon.gov" title="equity@bendoregon.gov"><b>equity@bendoregon.gov</b></a>. Relay Users Dial 7-1-1.</p><h3>Servicios de asistencia lingüística e información sobre alojamiento para personas con discapacidad</h3><p>Puede obtener esta información en formatos alternativos como Braille, formato electrónico, etc. También disponemos de servicios gratuitos de asistencia lingüística. Póngase en contacto con Gestor del proyecto o creador del documento en correo electrónico <a href="mailto:equity@bendoregon.gov?subject=equity@bendoregon.gov" id="equity@bendoregon.gov" title="equity@bendoregon.gov"><b>equity@bendoregon.gov</b></a>. Los usuarios del servicio de retransmisión deben marcar el 7-1-1.</p>
LOCATION:Council Chambers (City Hall)\, 710 NW Wall St Bend\, Oregon 97703
CLASS:PUBLIC
END:VEVENT
END:VCALENDAR
