BEGIN:VCALENDAR
VERSION:2.0
PRODID:City of Bend Calendar Creator
METHOD:PUBLISH
BEGIN:VEVENT
DTSTAMP:20251113T141001
DTSTART:20251117T163000
DTEND:20251117T183000
SUMMARY:Alt Date & Venue: Human Rights and Equity Commission Hybrid Meeting
DESCRIPTION:<h2>Notice of Hybrid Meeting - Alternate Meeting Date, Monday, November 17, 2025:</h2><p>You can find the agenda on the&nbsp;<a href="https://www.bendoregon.gov/government/committees/human-rights-and-equity-commission" target="_blank" rel="noopener" id="Human Rights and Equity Commission"><strong>Human Rights and Equity Commission</strong></a>&nbsp;(HREC) website.</p><p>HREC will conduct its hybrid meetings via Zoom and in person at City Hall, in Council Chambers, 710 NW Wall Street, Bend, on the alternate meeting date of Monday, November 17, 2025, from 4:30 to 6:30 p.m.&nbsp;Virtual attendees must pre-register to receive a personalized Zoom link to join this meeting.</p><p><strong>To Attend by Computer, <a href="https://bendoregon-gov.zoom.us/webinar/register/WN_yvhbgF_7SwavHsH8uL0SKw" target="_blank" rel="noopener">Pre-Register</a>:</strong></p><p>You will receive an email confirmation with a personized link informing you how to connect via computer or phone.</p><p><strong>To Attend by Phone (No Pre-Registration Required):</strong></p><ul>    <li><strong>Dial Toll-Free:&nbsp;</strong>1-888-788-0099</li>    <li><strong>Webinar ID:</strong>&nbsp;837 2266 6275</li>    <li><strong>Passcode, if prompted:</strong>&nbsp;4732 (HREC)</li></ul><p>Watch the <strong><a href="https://youtube.com/live/3JMiNXRdz2c?feature=share" target="_blank" rel="noopener">November HREC meeting live at 4:30 PM</a></strong>.</p><p><strong>Technical Difficulties Connecting to this meeting:&nbsp;</strong>Call 541-410-9341.</p><p><strong>Written Public Comments:</strong></p><p>Please submit written comments to&nbsp;<strong><a href="mailto:equity@bendoregon.gov?subject=equity@bendoregon.gov" id="equity@bendoregon.gov" title="equity@bendoregon.gov">equity@bendoregon.gov</a><a href="mailto:equity@bendoregon.gov?subject=equity@bendoregon.gov" id="equity@bendoregon.gov" title="equity@bendoregon.gov"></a>&nbsp;</strong>by&nbsp;noon, Friday, November 14, 2025.</p><p><span style="font-weight: 700;">For additional information:&nbsp;</span></p><p>Please email the HREC Staff Liaison at&nbsp;Community Relations Manager, Katherina Barguil at&nbsp;<strong><a href="mailto:kbarguil@bendoregon.gov?subject=kbarguil@bendoregon.gov" id="kbarguil@bendoregon.gov" title="kbarguil@bendoregon.gov">kbarguil@bendoregon.gov</a></strong>&nbsp;at or call 541-323-5992.</p><h3>Language Assistance Services &amp; Accommodation Information for People with Disabilities</h3><p>You can obtain this information in alternate formats such as Braille, electronic format, etc. Free language assistance services are also available. Please contact&nbsp;Community Relations Manager, Katherina Barguil at&nbsp;<strong><a href="mailto:&#101;&#113;&#117;&#105;&#116;&#121;&#64;&#98;&#101;&#110;&#100;&#111;&#114;&#101;&#103;&#111;&#110;&#46;&#103;&#111;&#118;">equity@bendoregon.gov</a></strong><a href="mailto:&#101;&#113;&#117;&#105;&#116;&#121;&#64;&#98;&#101;&#110;&#100;&#111;&#114;&#101;&#103;&#111;&#110;&#46;&#103;&#111;&#118;"></a>&nbsp;at or call 541-323-5992. Relay Users Dial 7-1-1.&nbsp;Contacting us with your accommodation 48 to 72 hours in advance will help the City of Bend procure your request.</p><h3>Servicios de asistencia lingüística e información sobre alojamiento para personas con discapacidad</h3><p>Puede obtener esta información en formatos alternativos como Braille, formato electrónico, etc. También disponemos de servicios gratuitos de asistencia lingüística. Póngase en contacto con Gestor del proyecto o creador del documento Katherina Barguil, Community Relations Manager and HREC Staff Liaison at&nbsp;<strong><a href="mailto:&#101;&#113;&#117;&#105;&#116;&#121;&#64;&#98;&#101;&#110;&#100;&#111;&#114;&#101;&#103;&#111;&#110;&#46;&#103;&#111;&#118;">equity@bendoregon.gov</a></strong>&nbsp;en&nbsp;<strong>&nbsp;</strong>o número de teléfono 541-323-5992. Los usuarios del servicio de retransmisión deben marcar el 7-1-1.</p>
X-ALT-DESC;FMTTYPE=text/html:<h2>Notice of Hybrid Meeting - Alternate Meeting Date, Monday, November 17, 2025:</h2><p>You can find the agenda on the&nbsp;<a href="https://www.bendoregon.gov/government/committees/human-rights-and-equity-commission" target="_blank" rel="noopener" id="Human Rights and Equity Commission"><strong>Human Rights and Equity Commission</strong></a>&nbsp;(HREC) website.</p><p>HREC will conduct its hybrid meetings via Zoom and in person at City Hall, in Council Chambers, 710 NW Wall Street, Bend, on the alternate meeting date of Monday, November 17, 2025, from 4:30 to 6:30 p.m.&nbsp;Virtual attendees must pre-register to receive a personalized Zoom link to join this meeting.</p><p><strong>To Attend by Computer, <a href="https://bendoregon-gov.zoom.us/webinar/register/WN_yvhbgF_7SwavHsH8uL0SKw" target="_blank" rel="noopener">Pre-Register</a>:</strong></p><p>You will receive an email confirmation with a personized link informing you how to connect via computer or phone.</p><p><strong>To Attend by Phone (No Pre-Registration Required):</strong></p><ul>    <li><strong>Dial Toll-Free:&nbsp;</strong>1-888-788-0099</li>    <li><strong>Webinar ID:</strong>&nbsp;837 2266 6275</li>    <li><strong>Passcode, if prompted:</strong>&nbsp;4732 (HREC)</li></ul><p>Watch the <strong><a href="https://youtube.com/live/3JMiNXRdz2c?feature=share" target="_blank" rel="noopener">November HREC meeting live at 4:30 PM</a></strong>.</p><p><strong>Technical Difficulties Connecting to this meeting:&nbsp;</strong>Call 541-410-9341.</p><p><strong>Written Public Comments:</strong></p><p>Please submit written comments to&nbsp;<strong><a href="mailto:equity@bendoregon.gov?subject=equity@bendoregon.gov" id="equity@bendoregon.gov" title="equity@bendoregon.gov">equity@bendoregon.gov</a><a href="mailto:equity@bendoregon.gov?subject=equity@bendoregon.gov" id="equity@bendoregon.gov" title="equity@bendoregon.gov"></a>&nbsp;</strong>by&nbsp;noon, Friday, November 14, 2025.</p><p><span style="font-weight: 700;">For additional information:&nbsp;</span></p><p>Please email the HREC Staff Liaison at&nbsp;Community Relations Manager, Katherina Barguil at&nbsp;<strong><a href="mailto:kbarguil@bendoregon.gov?subject=kbarguil@bendoregon.gov" id="kbarguil@bendoregon.gov" title="kbarguil@bendoregon.gov">kbarguil@bendoregon.gov</a></strong>&nbsp;at or call 541-323-5992.</p><h3>Language Assistance Services &amp; Accommodation Information for People with Disabilities</h3><p>You can obtain this information in alternate formats such as Braille, electronic format, etc. Free language assistance services are also available. Please contact&nbsp;Community Relations Manager, Katherina Barguil at&nbsp;<strong><a href="mailto:&#101;&#113;&#117;&#105;&#116;&#121;&#64;&#98;&#101;&#110;&#100;&#111;&#114;&#101;&#103;&#111;&#110;&#46;&#103;&#111;&#118;">equity@bendoregon.gov</a></strong><a href="mailto:&#101;&#113;&#117;&#105;&#116;&#121;&#64;&#98;&#101;&#110;&#100;&#111;&#114;&#101;&#103;&#111;&#110;&#46;&#103;&#111;&#118;"></a>&nbsp;at or call 541-323-5992. Relay Users Dial 7-1-1.&nbsp;Contacting us with your accommodation 48 to 72 hours in advance will help the City of Bend procure your request.</p><h3>Servicios de asistencia lingüística e información sobre alojamiento para personas con discapacidad</h3><p>Puede obtener esta información en formatos alternativos como Braille, formato electrónico, etc. También disponemos de servicios gratuitos de asistencia lingüística. Póngase en contacto con Gestor del proyecto o creador del documento Katherina Barguil, Community Relations Manager and HREC Staff Liaison at&nbsp;<strong><a href="mailto:&#101;&#113;&#117;&#105;&#116;&#121;&#64;&#98;&#101;&#110;&#100;&#111;&#114;&#101;&#103;&#111;&#110;&#46;&#103;&#111;&#118;">equity@bendoregon.gov</a></strong>&nbsp;en&nbsp;<strong>&nbsp;</strong>o número de teléfono 541-323-5992. Los usuarios del servicio de retransmisión deben marcar el 7-1-1.</p>
LOCATION:Boardroom (City Hall)\, 710 NW Wall St Bend\, Oregon 97703
CLASS:PUBLIC
END:VEVENT
END:VCALENDAR
