BEGIN:VCALENDAR
VERSION:2.0
PRODID:City of Bend Calendar Creator
METHOD:PUBLISH
BEGIN:VEVENT
DTSTAMP:20250609T153132
DTSTART:20250617T180000
DTEND:20250617T235900
SUMMARY:Landmarks Commission
DESCRIPTION:<p>The meeting convenes at 6:00PM on a hybrid, in-person and virtual Zoom platform.</p><p>Join the meeting using the following options:</p><p>In-person location: City Hall, Council Chambers, 710 NW Wall Street, Bend, OR 97703</p><p>Register via Zoom Online Meeting Link:&nbsp;<b><a href="https://bendoregon-gov.zoom.us/webinar/register/WN_RxmP4jPuQN-JiNwpvook8Q">https://bendoregon-gov.zoom.us/webinar/register/WN_RxmP4jPuQN-JiNwpvook8Q</a></b></p><p>Join by phone: Toll-free:1-888-788-0099</p><p>Webinar ID:&nbsp;820 0619 6520</p><p>Password:426520 </p><p>The public is invited to watch on-line at:&nbsp;<a href="https://nam11.safelinks.protection.outlook.com/?url=https%3A%2F%2Fyoutube.com%2Flive%2FrEf3KBMiZh8%3Ffeature%3Dshare&amp;data=05%7C02%7Cmstonge%40bendoregon.gov%7C0744fa00cb5942491b2c08dda4476d24%7C1c15334815ef4708aebf1e25e57dc400%7C0%7C0%7C638847348863666678%7CUnknown%7CTWFpbGZsb3d8eyJFbXB0eU1hcGkiOnRydWUsIlYiOiIwLjAuMDAwMCIsIlAiOiJXaW4zMiIsIkFOIjoiTWFpbCIsIldUIjoyfQ%3D%3D%7C0%7C%7C%7C&amp;sdata=109SXW8p0zSu4KBUI5aYIyJKPVpJvkW2YYZJYLsAdJM%3D&amp;reserved=0"><b>https://youtube.com/live/rEf3KBMiZh8?feature=share</b></a></p><p>View the meeting Agenda at the following link:&nbsp;<a href="https://bendoregon.prod-as.govaccess.org/home/showpublisheddocument/63238/638850796936100000" target="_blank"><strong>Landmarks Commission Agenda 6.17.2025</strong></a></p>
X-ALT-DESC;FMTTYPE=text/html:<p>The meeting convenes at 6:00PM on a hybrid, in-person and virtual Zoom platform.</p><p>Join the meeting using the following options:</p><p>In-person location: City Hall, Council Chambers, 710 NW Wall Street, Bend, OR 97703</p><p>Register via Zoom Online Meeting Link:&nbsp;<b><a href="https://bendoregon-gov.zoom.us/webinar/register/WN_RxmP4jPuQN-JiNwpvook8Q">https://bendoregon-gov.zoom.us/webinar/register/WN_RxmP4jPuQN-JiNwpvook8Q</a></b></p><p>Join by phone: Toll-free:1-888-788-0099</p><p>Webinar ID:&nbsp;820 0619 6520</p><p>Password:426520 </p><p>The public is invited to watch on-line at:&nbsp;<a href="https://nam11.safelinks.protection.outlook.com/?url=https%3A%2F%2Fyoutube.com%2Flive%2FrEf3KBMiZh8%3Ffeature%3Dshare&amp;data=05%7C02%7Cmstonge%40bendoregon.gov%7C0744fa00cb5942491b2c08dda4476d24%7C1c15334815ef4708aebf1e25e57dc400%7C0%7C0%7C638847348863666678%7CUnknown%7CTWFpbGZsb3d8eyJFbXB0eU1hcGkiOnRydWUsIlYiOiIwLjAuMDAwMCIsIlAiOiJXaW4zMiIsIkFOIjoiTWFpbCIsIldUIjoyfQ%3D%3D%7C0%7C%7C%7C&amp;sdata=109SXW8p0zSu4KBUI5aYIyJKPVpJvkW2YYZJYLsAdJM%3D&amp;reserved=0"><b>https://youtube.com/live/rEf3KBMiZh8?feature=share</b></a></p><p>View the meeting Agenda at the following link:&nbsp;<a href="https://bendoregon.prod-as.govaccess.org/home/showpublisheddocument/63238/638850796936100000" target="_blank"><strong>Landmarks Commission Agenda 6.17.2025</strong></a></p>
LOCATION:Council Chambers (City Hall)\, 710 NW Wall St Bend\, Oregon 97703
CLASS:PUBLIC
END:VEVENT
END:VCALENDAR
