BEGIN:VCALENDAR
VERSION:2.0
PRODID:City of Bend Calendar Creator
METHOD:PUBLISH
BEGIN:VEVENT
DTSTAMP:20250703T114516
DTSTART:20250715T180000
DTEND:20250715T235900
SUMMARY:CANCELLED: Landmarks Commission
DESCRIPTION:<p>The 7/15/25 Landmarks Commission Meeting has been cancelled. Please check the <a href="https://www.bendoregon.gov/government/committees/landmarks-commission/-fsiteid-1#!/" target="_blank">Landmarks Commission webpage</a> for future meetings.&nbsp;</p>
X-ALT-DESC;FMTTYPE=text/html:<p>The 7/15/25 Landmarks Commission Meeting has been cancelled. Please check the <a href="https://www.bendoregon.gov/government/committees/landmarks-commission/-fsiteid-1#!/" target="_blank">Landmarks Commission webpage</a> for future meetings.&nbsp;</p>
LOCATION:Council Chambers (City Hall)\, 710 NW Wall St Bend\, Oregon 97703
CLASS:PUBLIC
END:VEVENT
END:VCALENDAR
