BEGIN:VCALENDAR
VERSION:2.0
PRODID:City of Bend Calendar Creator
METHOD:PUBLISH
BEGIN:VEVENT
DTSTAMP:20250725T163108
DTSTART:20250819T180000
DTEND:20250819T235900
SUMMARY:CANCELLED: Landmarks Commission
DESCRIPTION:<p>The 8/19/25 Landmarks Commission meeting has been cancelled due to a lack of agenda items. Please visit the Landmarks Commission webpage for upcoming meetings:&nbsp;<a href="https://www.bendoregon.gov/government/committees/landmarks-commission/-fsiteid-1#!/">Landmarks Commission | City of Bend</a>.&nbsp;</p>
X-ALT-DESC;FMTTYPE=text/html:<p>The 8/19/25 Landmarks Commission meeting has been cancelled due to a lack of agenda items. Please visit the Landmarks Commission webpage for upcoming meetings:&nbsp;<a href="https://www.bendoregon.gov/government/committees/landmarks-commission/-fsiteid-1#!/">Landmarks Commission | City of Bend</a>.&nbsp;</p>
LOCATION:Council Chambers (City Hall)\, 710 NW Wall St Bend\, Oregon 97703
CLASS:PUBLIC
END:VEVENT
END:VCALENDAR
