BEGIN:VCALENDAR
VERSION:2.0
PRODID:City of Bend Calendar Creator
METHOD:PUBLISH
BEGIN:VEVENT
DTSTAMP:20250925T103007
DTSTART:20251021T180000
DTEND:20251021T235900
SUMMARY:CANCELLED: Landmarks Commission
DESCRIPTION:The 10/21/25 Landmarks Commission meeting has been cancelled due to lack of agenda items. Please visit&nbsp;<a href="https://www.bendoregon.gov/government/committees/landmarks-commission/-fsiteid-1#!/">Landmarks Commission | City of Bend</a>&nbsp;for future meetings.&nbsp;
X-ALT-DESC;FMTTYPE=text/html:The 10/21/25 Landmarks Commission meeting has been cancelled due to lack of agenda items. Please visit&nbsp;<a href="https://www.bendoregon.gov/government/committees/landmarks-commission/-fsiteid-1#!/">Landmarks Commission | City of Bend</a>&nbsp;for future meetings.&nbsp;
LOCATION:Council Chambers (City Hall)\, 710 NW Wall St Bend\, Oregon 97703
CLASS:PUBLIC
END:VEVENT
END:VCALENDAR
