BEGIN:VCALENDAR
VERSION:2.0
PRODID:City of Bend Calendar Creator
METHOD:PUBLISH
BEGIN:VEVENT
DTSTAMP:20260116T165211
DTSTART:20260122T130000
DTEND:20260122T143000
SUMMARY:City of Bend Accessibility Advisory Committee Hybrid Meeting
DESCRIPTION:<h2>Hybrid Meeting Notice:</h2><p><strong><a href="https://bend.granicus.com/GeneratedAgendaViewer.php?event_id=42ffc20a-cbd1-4c31-bc0b-0cac9213875b" target="_blank" rel="noopener">COBAAC January agenda</a></strong>.&nbsp;</p><p>The&nbsp;<a href="https://www.bendoregon.gov/government/committees/accessibility-advisory-committee#!/" target="_blank" id="City of Bend Accessibility Advisory Committee"><b>City of Bend Accessibility Advisory Committee</b></a>&nbsp;(COBAAC) will conduct its hybrid meetings through Zoom and in person in Council Chambers, 710 NW Wall Street, from 1:00 to 2:30 PM.</p><p><strong>To Attend by Computer, <a href="https://bendoregon-gov.zoom.us/webinar/register/WN_e_7_iDIlStSYbtqsLvfn-A" target="_blank" rel="noopener">Pre-Register</a>:&nbsp;</strong>You will receive an email confirmation with a personalized link with information to connect by computer and phone.</p><p><strong>To Attend by Phone, No Registration Required:</strong></p><ul>    <li><strong>Dial Toll-Free:</strong>&nbsp;1-888-788-0099</li>    <li><strong>Webinar ID:</strong>&nbsp;880 5183 0348</li>    <li><strong>Passcode (if prompted):</strong>&nbsp;262222 (COBAAC)</li></ul><p><a href="https://youtube.com/live/bj4Fm1FcVHw?feature=share" target="_blank" rel="noopener"><strong>COBAAC Meeting, live at 1:00 PM</strong></a>.</p><p><b>For additional information:</b>&nbsp;Please contact the Accessibility Manager // COBAAC Liaison, Cassandra Kehoe, She, Her, Ella, at&nbsp;<strong><a href="mailto:ckehoe@bendoregon.gov?subject=ckehoe@bendoregon.gov" id="ckehoe@bendoregon.gov" title="ckehoe@bendoregon.gov">ckehoe@bendoregon.gov</a></strong>&nbsp;or call 541-693-2141.</p><h2>Language Assistance Services and Accommodation Information for People with Disabilities:</h2><p>You can obtain this information in alternative formats such as Braille, electronic format, etc. Free language services are also available. Please contact the Accessibility Department at&nbsp;<strong><a href="mailto:accessibility@bendoregon.gov?subject=accessibility@bendoregon.gov" id="accessibility@bendoregon.gov" title="accessibility@bendoregon.gov">accessibility@bendoregon.gov</a>&nbsp;</strong>or call 541-693-2141. Relay users Dial 7-1-1. Contacting us with your accommodations 24 to 72 hours in advance will help us procure your request.</p><h2>Servicios de asistencia lingüística e información sobre alojamiento para personas con discapacidad:</h2><p>Puede obtener esta información en formatos alternativos como Braille, formato electrónico, etc. También disponemos de servicios gratuitos de asistencia lingüística. Póngase en contacto con Gestor del proyecto o creador del documento en correo electrónico <b><a href="mailto:hrec@bendoregon.gov?subject=hrec@bendoregon.gov" id="hrec@bendoregon.gov" title="hrec@bendoregon.gov">hrec@bendoregon.gov</a></b>. Los usuarios del servicio de retransmisión deben marcar el 7-1-1.</p>
X-ALT-DESC;FMTTYPE=text/html:<h2>Hybrid Meeting Notice:</h2><p><strong><a href="https://bend.granicus.com/GeneratedAgendaViewer.php?event_id=42ffc20a-cbd1-4c31-bc0b-0cac9213875b" target="_blank" rel="noopener">COBAAC January agenda</a></strong>.&nbsp;</p><p>The&nbsp;<a href="https://www.bendoregon.gov/government/committees/accessibility-advisory-committee#!/" target="_blank" id="City of Bend Accessibility Advisory Committee"><b>City of Bend Accessibility Advisory Committee</b></a>&nbsp;(COBAAC) will conduct its hybrid meetings through Zoom and in person in Council Chambers, 710 NW Wall Street, from 1:00 to 2:30 PM.</p><p><strong>To Attend by Computer, <a href="https://bendoregon-gov.zoom.us/webinar/register/WN_e_7_iDIlStSYbtqsLvfn-A" target="_blank" rel="noopener">Pre-Register</a>:&nbsp;</strong>You will receive an email confirmation with a personalized link with information to connect by computer and phone.</p><p><strong>To Attend by Phone, No Registration Required:</strong></p><ul>    <li><strong>Dial Toll-Free:</strong>&nbsp;1-888-788-0099</li>    <li><strong>Webinar ID:</strong>&nbsp;880 5183 0348</li>    <li><strong>Passcode (if prompted):</strong>&nbsp;262222 (COBAAC)</li></ul><p><a href="https://youtube.com/live/bj4Fm1FcVHw?feature=share" target="_blank" rel="noopener"><strong>COBAAC Meeting, live at 1:00 PM</strong></a>.</p><p><b>For additional information:</b>&nbsp;Please contact the Accessibility Manager // COBAAC Liaison, Cassandra Kehoe, She, Her, Ella, at&nbsp;<strong><a href="mailto:ckehoe@bendoregon.gov?subject=ckehoe@bendoregon.gov" id="ckehoe@bendoregon.gov" title="ckehoe@bendoregon.gov">ckehoe@bendoregon.gov</a></strong>&nbsp;or call 541-693-2141.</p><h2>Language Assistance Services and Accommodation Information for People with Disabilities:</h2><p>You can obtain this information in alternative formats such as Braille, electronic format, etc. Free language services are also available. Please contact the Accessibility Department at&nbsp;<strong><a href="mailto:accessibility@bendoregon.gov?subject=accessibility@bendoregon.gov" id="accessibility@bendoregon.gov" title="accessibility@bendoregon.gov">accessibility@bendoregon.gov</a>&nbsp;</strong>or call 541-693-2141. Relay users Dial 7-1-1. Contacting us with your accommodations 24 to 72 hours in advance will help us procure your request.</p><h2>Servicios de asistencia lingüística e información sobre alojamiento para personas con discapacidad:</h2><p>Puede obtener esta información en formatos alternativos como Braille, formato electrónico, etc. También disponemos de servicios gratuitos de asistencia lingüística. Póngase en contacto con Gestor del proyecto o creador del documento en correo electrónico <b><a href="mailto:hrec@bendoregon.gov?subject=hrec@bendoregon.gov" id="hrec@bendoregon.gov" title="hrec@bendoregon.gov">hrec@bendoregon.gov</a></b>. Los usuarios del servicio de retransmisión deben marcar el 7-1-1.</p>
LOCATION:Council Chambers (City Hall)\, 710 NW Wall St Bend\, Oregon 97703
CLASS:PUBLIC
END:VEVENT
END:VCALENDAR
