BEGIN:VCALENDAR
VERSION:2.0
PRODID:City of Bend Calendar Creator
METHOD:PUBLISH
BEGIN:VEVENT
DTSTAMP:20250811T150531
DTSTART:20250822T130000
DTEND:20250822T150000
SUMMARY:Civil Service Commission Meeting
DESCRIPTION:<h2>Meeting Agenda</h2><h3>Civil Service Commission</h3><h3>August 22, 2025 at 1 p.m.</h3><h3>Hybrid</h3><p>&nbsp;</p><h3>The public is invited to watch online or in person:</h3><h4>Join Zoom Meeting:&nbsp;<a href="https://us04web.zoom.us/j/76911469734?pwd=BMb3HGY4zgVn7rxBstzhKWDzLxkRKu.1" target="_blank" style="font-size: 15px;">https://us04web.zoom.us/j/76911469734?pwd=BMb3HGY4zgVn7rxBstzhKWDzLxkRKu.1&nbsp;<br></a><span style="font-size: 15px;">Meeting ID: 769 1146 9734<br></span><span style="font-size: 15px;">Passcode: XX1rfr<br></span>____________________________________________________________________</h4><h3>Meeting Agenda:</h3><h4><ol>    <li>Call to order</li>    <li>Roll Call</li>    <li>Old Business    <ol>        <li>Review Meeting Minutes – January 16,, 2025</li>    </ol>    </li>    <li>New Business    <ol>        <li>Discussion and voting of proposed Civil Service Regulations</li>        <li>Discussion of Deputy Fire Marshal Wildland Preparedness<br>        Position</li>        <li>Certification of the DFM Wildland Preparedness eligibility list</li>    </ol>    </li>    <li>Good of the Order</li>    <li>Adjourn</li></ol></h4><h3>Accessible Meeting Information</h3><p>This meeting/event location is accessible. Sign language interpreter service, assistive<br>listening devices, materials in alternate format such as Braille, large print, electronic formats<br>and CD Formats, or any other accommodations are available upon advance request. Please<br>contact Makayla Oliver no later than August 21, 2025 at moliver@bendoregon.gov or<br>541-323-8571; Relay Users Dial 7-1-1. Providing, at least, 3 days’ notice prior to the event<br>will help ensure availability.</p>
X-ALT-DESC;FMTTYPE=text/html:<h2>Meeting Agenda</h2><h3>Civil Service Commission</h3><h3>August 22, 2025 at 1 p.m.</h3><h3>Hybrid</h3><p>&nbsp;</p><h3>The public is invited to watch online or in person:</h3><h4>Join Zoom Meeting:&nbsp;<a href="https://us04web.zoom.us/j/76911469734?pwd=BMb3HGY4zgVn7rxBstzhKWDzLxkRKu.1" target="_blank" style="font-size: 15px;">https://us04web.zoom.us/j/76911469734?pwd=BMb3HGY4zgVn7rxBstzhKWDzLxkRKu.1&nbsp;<br></a><span style="font-size: 15px;">Meeting ID: 769 1146 9734<br></span><span style="font-size: 15px;">Passcode: XX1rfr<br></span>____________________________________________________________________</h4><h3>Meeting Agenda:</h3><h4><ol>    <li>Call to order</li>    <li>Roll Call</li>    <li>Old Business    <ol>        <li>Review Meeting Minutes – January 16,, 2025</li>    </ol>    </li>    <li>New Business    <ol>        <li>Discussion and voting of proposed Civil Service Regulations</li>        <li>Discussion of Deputy Fire Marshal Wildland Preparedness<br>        Position</li>        <li>Certification of the DFM Wildland Preparedness eligibility list</li>    </ol>    </li>    <li>Good of the Order</li>    <li>Adjourn</li></ol></h4><h3>Accessible Meeting Information</h3><p>This meeting/event location is accessible. Sign language interpreter service, assistive<br>listening devices, materials in alternate format such as Braille, large print, electronic formats<br>and CD Formats, or any other accommodations are available upon advance request. Please<br>contact Makayla Oliver no later than August 21, 2025 at moliver@bendoregon.gov or<br>541-323-8571; Relay Users Dial 7-1-1. Providing, at least, 3 days’ notice prior to the event<br>will help ensure availability.</p>
LOCATION:Bend Fire Administration\, 1212 SW Simpson Ave Bend\, Oregon 97702
CLASS:PUBLIC
END:VEVENT
END:VCALENDAR
