BEGIN:VCALENDAR
VERSION:2.0
PRODID:City of Bend Calendar Creator
METHOD:PUBLISH
BEGIN:VEVENT
DTSTAMP:20250904T143556
DTSTART:20250915T140000
DTEND:20250915T160000
SUMMARY:Hearings Officer Public Hearing for PLCPMA20250298
DESCRIPTION:<p>The meeting convenes at 2:00PM on a hybrid, in-person and virtual Zoom platform.</p><p>Join the meeting using the following options:</p><p>In-person location: City Hall, Council Chambers, 710 NW Wall Street, Bend, OR 97703</p><p>Register via Zoom Online Meeting Link: <a href="https://bendoregon-gov.zoom.us/webinar/register/WN_J6lXCDDSQMajXLCbulMMHw"><b>https://bendoregon-gov.zoom.us/webinar/register/WN_J6lXCDDSQMajXLCbulMMHw</b></a></p><p><em>You can also copy and paste the Zoom link into your browser.</em></p><p><strong>Call in Phone Number:</strong>1- 888-788-0099</p><p><strong>Webinar ID:</strong>&nbsp;865 3286 6708</p><p><strong>Passcode:</strong>&nbsp;321775</p><p>The public is invited to watch on-line at: YouTube link <b><a href="https://youtube.com/live/ZIlXdbYXLH0?feature=share">https://youtube.com/live/ZIlXdbYXLH0?feature=share</a></b></p><p>Please click to view the meeting agenda:&nbsp;<a href="https://bendoregon.prod-as.govaccess.org/home/showpublisheddocument/63871/638925931628270000" target="_blank"><strong>Hearings Officer Agenda 09.15.25</strong></a></p>
X-ALT-DESC;FMTTYPE=text/html:<p>The meeting convenes at 2:00PM on a hybrid, in-person and virtual Zoom platform.</p><p>Join the meeting using the following options:</p><p>In-person location: City Hall, Council Chambers, 710 NW Wall Street, Bend, OR 97703</p><p>Register via Zoom Online Meeting Link: <a href="https://bendoregon-gov.zoom.us/webinar/register/WN_J6lXCDDSQMajXLCbulMMHw"><b>https://bendoregon-gov.zoom.us/webinar/register/WN_J6lXCDDSQMajXLCbulMMHw</b></a></p><p><em>You can also copy and paste the Zoom link into your browser.</em></p><p><strong>Call in Phone Number:</strong>1- 888-788-0099</p><p><strong>Webinar ID:</strong>&nbsp;865 3286 6708</p><p><strong>Passcode:</strong>&nbsp;321775</p><p>The public is invited to watch on-line at: YouTube link <b><a href="https://youtube.com/live/ZIlXdbYXLH0?feature=share">https://youtube.com/live/ZIlXdbYXLH0?feature=share</a></b></p><p>Please click to view the meeting agenda:&nbsp;<a href="https://bendoregon.prod-as.govaccess.org/home/showpublisheddocument/63871/638925931628270000" target="_blank"><strong>Hearings Officer Agenda 09.15.25</strong></a></p>
LOCATION:Council Chambers (City Hall)\, 710 NW Wall St Bend\, Oregon 97703
CLASS:PUBLIC
END:VEVENT
END:VCALENDAR
