BEGIN:VCALENDAR
VERSION:2.0
PRODID:City of Bend Calendar Creator
METHOD:PUBLISH
BEGIN:VEVENT
DTSTAMP:20250902T150944
DTSTART:20250914T150000
DTEND:20250914T170000
SUMMARY:Threads of Belonging - Brothers Ivan / Hilos de Pertenencia - Los Hermanos Ivan
DESCRIPTION:<p>Join us for an intimate afternoon of ancestral sound, story, and nourishment. Brothers Ivan, a Ukrainian folk duo, will offer a soulful acoustic set filled with rhythm, ritual, and resilience. Ukrainian comfort food will be offered. Free and open to all.<br><br>Acompáñenos en una tarde íntima llena de sonidos ancestrales, historias y comida. Brothers Ivan, un dúo folclórico ucraniano, ofrecerá un emotivo concierto acústico lleno de ritmo, ritual y resiliencia. Se ofrecerá comida ucraniana reconfortante. Entrada libre y gratuita para todos.</p><p><hr></p><h2>Organizations</h2><ul>    <li>Art Spouts</li>    <li>Mosaic Medical</li>    <li>LCA</li>    <li>Gender Hive</li>    <li>Out Central Oregon</li>    <li>PFLAF</li>    <li>Vamonos Outside&nbsp;</li></ul>
X-ALT-DESC;FMTTYPE=text/html:<p>Join us for an intimate afternoon of ancestral sound, story, and nourishment. Brothers Ivan, a Ukrainian folk duo, will offer a soulful acoustic set filled with rhythm, ritual, and resilience. Ukrainian comfort food will be offered. Free and open to all.<br><br>Acompáñenos en una tarde íntima llena de sonidos ancestrales, historias y comida. Brothers Ivan, un dúo folclórico ucraniano, ofrecerá un emotivo concierto acústico lleno de ritmo, ritual y resiliencia. Se ofrecerá comida ucraniana reconfortante. Entrada libre y gratuita para todos.</p><p><hr></p><h2>Organizations</h2><ul>    <li>Art Spouts</li>    <li>Mosaic Medical</li>    <li>LCA</li>    <li>Gender Hive</li>    <li>Out Central Oregon</li>    <li>PFLAF</li>    <li>Vamonos Outside&nbsp;</li></ul>
LOCATION:Café des Chutes\, 50 SE Scott St\, #22 Bend\, Oregon 97702
CLASS:PUBLIC
END:VEVENT
END:VCALENDAR
