BEGIN:VCALENDAR
VERSION:2.0
PRODID:City of Bend Calendar Creator
METHOD:PUBLISH
BEGIN:VEVENT
DTSTAMP:20250902T151807
DTSTART:20250916T173000
DTEND:20250916T235900
SUMMARY:Affordable Homeownership Fair / Feria de vivienda asequible
DESCRIPTION:<p>Hear from affordable developers in Central Oregon about upcoming opportunities, qualifications, and next steps to become a homeowner!&nbsp;<br><br>Venga a escuchar a los promotores de viviendas asequibles de nuestra área Central Oregon acerca de sus próximos proyectos/oportunidades, requisitos para calificar y los siguientes pasos para convertirse en propietario.</p><p><h2><hr>Organizations</h2><p>NeighborImpact, LCA, APIC, Rooted Homes, First Story, Hayden Homes, Bend-Redmond Habitat for Humanity, Thistle and Nest</p></p>
X-ALT-DESC;FMTTYPE=text/html:<p>Hear from affordable developers in Central Oregon about upcoming opportunities, qualifications, and next steps to become a homeowner!&nbsp;<br><br>Venga a escuchar a los promotores de viviendas asequibles de nuestra área Central Oregon acerca de sus próximos proyectos/oportunidades, requisitos para calificar y los siguientes pasos para convertirse en propietario.</p><p><h2><hr>Organizations</h2><p>NeighborImpact, LCA, APIC, Rooted Homes, First Story, Hayden Homes, Bend-Redmond Habitat for Humanity, Thistle and Nest</p></p>
LOCATION:Larkspur Community Center\, 1600 SE Reed Market Rd Bend\, Oregon 97702
CLASS:PUBLIC
END:VEVENT
END:VCALENDAR
