BEGIN:VCALENDAR
VERSION:2.0
PRODID:City of Bend Calendar Creator
METHOD:PUBLISH
BEGIN:VEVENT
DTSTAMP:20250902T152142
DTSTART:20250917T170000
DTEND:20250917T200000
SUMMARY:Diversity and Inclusion Bike Ride / Rondada por la Diversidad y la Inclusión
DESCRIPTION:<p>Comenzando en Cuban Kitchen a las 5 pm, visitaremos algunos lugares representativos de nuestra comunidad, escucharemos música en español, y tendremos la oportunidad de conocer, saborear y apoyar lo que cada negocio tiene para ofrecer.<br><br>Finalizamos la rodada en Simón, donde tendremos una conversación sobre los derechos de los migrantes en nuestra ciudad, maneras de involucrarse con nuestros programas de abogacía, y un karaoke en español para quienes gusten quedarse.&nbsp;<br><br>Esperamos que traigas tu traje tradicional, tu bandera, y tus ganas de convivir con la comunidad. Si no tienes acceso a una bicicleta, o si requieres una bicicleta para niños o personas con discapacidades, llámanos en el número (541) 515 0868.</p><p><h2><hr>Organization</h2><p>Latino Community Association</p></p>
X-ALT-DESC;FMTTYPE=text/html:<p>Comenzando en Cuban Kitchen a las 5 pm, visitaremos algunos lugares representativos de nuestra comunidad, escucharemos música en español, y tendremos la oportunidad de conocer, saborear y apoyar lo que cada negocio tiene para ofrecer.<br><br>Finalizamos la rodada en Simón, donde tendremos una conversación sobre los derechos de los migrantes en nuestra ciudad, maneras de involucrarse con nuestros programas de abogacía, y un karaoke en español para quienes gusten quedarse.&nbsp;<br><br>Esperamos que traigas tu traje tradicional, tu bandera, y tus ganas de convivir con la comunidad. Si no tienes acceso a una bicicleta, o si requieres una bicicleta para niños o personas con discapacidades, llámanos en el número (541) 515 0868.</p><p><h2><hr>Organization</h2><p>Latino Community Association</p></p>
LOCATION:1600 NE 3rd St Bend\, Oregon 97701
CLASS:PUBLIC
END:VEVENT
END:VCALENDAR
