BEGIN:VCALENDAR
VERSION:2.0
PRODID:City of Bend Calendar Creator
METHOD:PUBLISH
BEGIN:VEVENT
DTSTAMP:20250902T154648
DTSTART:20250917T173000
DTEND:20250917T190000
SUMMARY:Anti-Bias Student Lessons
DESCRIPTION:Each year in Bend-La Pine Schools, every student K-12 participates in a lesson on bias incidents: what is a bias incident, why does it matter, and how to interrupt, report, and prevent it.&nbsp; The goal is to establish clear expectations and to build skills so each member of our learning community feels a sense of dignity and belonging in our schools.&nbsp; Curious what these lessons look like and what they actually cover?&nbsp; Community members are invited to join us to experience the exact same lesson our students get.&nbsp; If kids can have these conversations successfully, so can you!&nbsp; Come check it out, provide feedback, and build community-wide skill on this topic.<br><br>Cada año, en las escuelas Bend-La Pine, todos los alumnos de primaria y secundaria participan en una clase sobre incidentes de discriminación: qué es un incidente de discriminación, por qué es importante y cómo interrumpirlo, denunciarlo y prevenirlo. El objetivo es establecer expectativas claras y desarrollar habilidades para que cada miembro de nuestra comunidad educativa sienta dignidad y pertenencia en nuestras escuelas.&nbsp; ¿Tiene curiosidad por saber cómo son estas lecciones y qué temas tratan? Invitamos a los miembros de la comunidad a unirse a nosotros para experimentar exactamente la misma lección que reciben nuestros alumnos. Si los niños pueden mantener estas conversaciones con éxito, ¡usted también puede! Venga a verlo, dé su opinión y desarrolle habilidades en toda la comunidad sobre este tema.
X-ALT-DESC;FMTTYPE=text/html:Each year in Bend-La Pine Schools, every student K-12 participates in a lesson on bias incidents: what is a bias incident, why does it matter, and how to interrupt, report, and prevent it.&nbsp; The goal is to establish clear expectations and to build skills so each member of our learning community feels a sense of dignity and belonging in our schools.&nbsp; Curious what these lessons look like and what they actually cover?&nbsp; Community members are invited to join us to experience the exact same lesson our students get.&nbsp; If kids can have these conversations successfully, so can you!&nbsp; Come check it out, provide feedback, and build community-wide skill on this topic.<br><br>Cada año, en las escuelas Bend-La Pine, todos los alumnos de primaria y secundaria participan en una clase sobre incidentes de discriminación: qué es un incidente de discriminación, por qué es importante y cómo interrumpirlo, denunciarlo y prevenirlo. El objetivo es establecer expectativas claras y desarrollar habilidades para que cada miembro de nuestra comunidad educativa sienta dignidad y pertenencia en nuestras escuelas.&nbsp; ¿Tiene curiosidad por saber cómo son estas lecciones y qué temas tratan? Invitamos a los miembros de la comunidad a unirse a nosotros para experimentar exactamente la misma lección que reciben nuestros alumnos. Si los niños pueden mantener estas conversaciones con éxito, ¡usted también puede! Venga a verlo, dé su opinión y desarrolle habilidades en toda la comunidad sobre este tema.
LOCATION:Bend La Pine School District Education Center (Upstairs in the Board Room)\, 520 NW Wall Street Bend\, Oregon 97703
CLASS:PUBLIC
END:VEVENT
END:VCALENDAR
