BEGIN:VCALENDAR
VERSION:2.0
PRODID:City of Bend Calendar Creator
METHOD:PUBLISH
BEGIN:VEVENT
DTSTAMP:20250902T161301
DTSTART:20250921T150000
DTEND:20250921T170000
SUMMARY:Threads of Belonging: A Musical Tapestry / Hilos de pertenencia: un tapiz musical
DESCRIPTION:<p>A collaborative performance with Inna Kovtun and Skott Kalama (Blue Flamez) - aceremonial fusion of Ukrainian folk tradition and indigenous hip-hop. Together they bring rhythm, memory, and cultural dialogue to life. Ukrainian food will be shared as a gesture of nourishment and welcome.&nbsp;<br><br>Una actuación colaborativa con Inna Kovtun y Skott Kalama (Blue Flamez): una fusión ceremonial de la tradición folclórica ucraniana y el hip-hop indígena. Juntos dan vida al ritmo, la memoria y el diálogo cultural. Se compartirá comida ucraniana como gesto de bienvenida y para alimentar a los asistentes.</p><p><p>&nbsp;</p></p>
X-ALT-DESC;FMTTYPE=text/html:<p>A collaborative performance with Inna Kovtun and Skott Kalama (Blue Flamez) - aceremonial fusion of Ukrainian folk tradition and indigenous hip-hop. Together they bring rhythm, memory, and cultural dialogue to life. Ukrainian food will be shared as a gesture of nourishment and welcome.&nbsp;<br><br>Una actuación colaborativa con Inna Kovtun y Skott Kalama (Blue Flamez): una fusión ceremonial de la tradición folclórica ucraniana y el hip-hop indígena. Juntos dan vida al ritmo, la memoria y el diálogo cultural. Se compartirá comida ucraniana como gesto de bienvenida y para alimentar a los asistentes.</p><p><p>&nbsp;</p></p>
LOCATION:Café des Chutes\, 50 SE Scott St\, #22 Bend\, Oregon 97702
CLASS:PUBLIC
END:VEVENT
END:VCALENDAR
