BEGIN:VCALENDAR
VERSION:2.0
PRODID:City of Bend Calendar Creator
METHOD:PUBLISH
BEGIN:VEVENT
DTSTAMP:20250925T165256
DTSTART:20250929T160000
DTEND:20250929T180000
SUMMARY:TBOC/CAAB Joint Meeting
DESCRIPTION:<h3>For more information on the Core Area Advisory Board, check out the&nbsp;<a href="https://www.bendoregon.gov/government/committees/core-area-advisory-board" target="_blank">CAAB website</a></h3><h3>For more information on the Transportation Bond Oversight Committee, visit the <a href="https://bendoregon.prod-as.govaccess.org/government/committees/bond-oversight-committee">TBOC website</a></h3><b><h3>HYBRID MEETING NOTICE</h3></b><p>The Core Area Advisory Board (CAAB) and the&nbsp;Transportation Bond Oversight Committee (TBOC)&nbsp;will conduct a joint subcommittee meeting virtually through Zoom and in person in Council Chambers at 710 NW Wall Street, Bend, OR 97703 on&nbsp;Wednesday, September 29, 2025 from&nbsp;4:00 - 6:00 p.m.</p><p>Use the link below to join via Zoom:</p><p><a href="https://bendoregon-gov.zoom.us/j/85394942754?pwd=aThsbGFZdHpaWitURHJucXdsa1QwQT09" target="_blank"><b>https://bendoregon-gov.zoom.us/j/85394942754?pwd=aThsbGFZdHpaWitURHJucXdsa1QwQT09</b></a></p><p>Or Telephone:<br>+1 253 215 8782&nbsp; or +1 346 248 7799&nbsp; or +1 669 900 9128&nbsp;or 888 788 0099 (Toll Free)<br>Webinar ID: 853 9494 2754</p><p>Passcode: 948763&nbsp;</p><b><h3>PUBLIC COMMENT (In-person or virtual)</h3></b><p><b>Virtual option: please join the meeting on Zoom with your first and last name and your email address. During the scheduled public comment period, click on the "Raise Hand" option and you will be called. Please state your first and last name as you begin your comment.&nbsp;</b></p><p><b>In-person option: please add your name to the sign-in sheet available at the meeting location.&nbsp; When invited to the podium, please state your name prior to presenting.</b></p><p><h3>Accessible Meeting Information</h3>This meeting/event location is accessible. Sign language interpreter service, assistive listening devices, materials in alternate format such as Braille, large print, electronic formats, or any other accommodations are available upon advance request. Please contact Garrett Sabourin no later than September 26 at <a href="mailto:&#103;&#115;&#97;&#98;&#111;&#117;&#114;&#105;&#110;&#64;&#98;&#101;&#110;&#100;&#111;&#114;&#101;&#103;&#111;&#110;&#46;&#103;&#111;&#118;&#37;20">gsabourin@bendoregon.gov </a>or 541- 541-323-8591. Relay Users Dial 7-1-1. Providing, at least, 2 business days’ notice prior to the event will help ensure availability. </p>
X-ALT-DESC;FMTTYPE=text/html:<h3>For more information on the Core Area Advisory Board, check out the&nbsp;<a href="https://www.bendoregon.gov/government/committees/core-area-advisory-board" target="_blank">CAAB website</a></h3><h3>For more information on the Transportation Bond Oversight Committee, visit the <a href="https://bendoregon.prod-as.govaccess.org/government/committees/bond-oversight-committee">TBOC website</a></h3><b><h3>HYBRID MEETING NOTICE</h3></b><p>The Core Area Advisory Board (CAAB) and the&nbsp;Transportation Bond Oversight Committee (TBOC)&nbsp;will conduct a joint subcommittee meeting virtually through Zoom and in person in Council Chambers at 710 NW Wall Street, Bend, OR 97703 on&nbsp;Wednesday, September 29, 2025 from&nbsp;4:00 - 6:00 p.m.</p><p>Use the link below to join via Zoom:</p><p><a href="https://bendoregon-gov.zoom.us/j/85394942754?pwd=aThsbGFZdHpaWitURHJucXdsa1QwQT09" target="_blank"><b>https://bendoregon-gov.zoom.us/j/85394942754?pwd=aThsbGFZdHpaWitURHJucXdsa1QwQT09</b></a></p><p>Or Telephone:<br>+1 253 215 8782&nbsp; or +1 346 248 7799&nbsp; or +1 669 900 9128&nbsp;or 888 788 0099 (Toll Free)<br>Webinar ID: 853 9494 2754</p><p>Passcode: 948763&nbsp;</p><b><h3>PUBLIC COMMENT (In-person or virtual)</h3></b><p><b>Virtual option: please join the meeting on Zoom with your first and last name and your email address. During the scheduled public comment period, click on the "Raise Hand" option and you will be called. Please state your first and last name as you begin your comment.&nbsp;</b></p><p><b>In-person option: please add your name to the sign-in sheet available at the meeting location.&nbsp; When invited to the podium, please state your name prior to presenting.</b></p><p><h3>Accessible Meeting Information</h3>This meeting/event location is accessible. Sign language interpreter service, assistive listening devices, materials in alternate format such as Braille, large print, electronic formats, or any other accommodations are available upon advance request. Please contact Garrett Sabourin no later than September 26 at <a href="mailto:&#103;&#115;&#97;&#98;&#111;&#117;&#114;&#105;&#110;&#64;&#98;&#101;&#110;&#100;&#111;&#114;&#101;&#103;&#111;&#110;&#46;&#103;&#111;&#118;&#37;20">gsabourin@bendoregon.gov </a>or 541- 541-323-8591. Relay Users Dial 7-1-1. Providing, at least, 2 business days’ notice prior to the event will help ensure availability. </p>
LOCATION:Council Chambers (City Hall)\, 710 NW Wall St Bend\, Oregon 97703
CLASS:PUBLIC
END:VEVENT
END:VCALENDAR
