BEGIN:VCALENDAR
VERSION:2.0
PRODID:City of Bend Calendar Creator
METHOD:PUBLISH
BEGIN:VEVENT
DTSTAMP:20250924T114905
DTSTART:20251001T110000
DTEND:20251001T130000
SUMMARY:Civil Service Commission Meeting
DESCRIPTION:<h2>Meeting Agenda</h2><h3><span style="font-size: 15px;">Civil Service Commission<br></span><span style="font-size: 15px;">October 1, 2025 at 11 a.m.<br></span><span style="font-size: 15px;">Hybrid</span></h3><h3>The public is invited to watch online or in person:</h3><h4>Join Zoom Meeting:&nbsp;<a href="https://us04web.zoom.us/j/75645426753?pwd=75MZSlxVWY19Crvpv8oAfdKTsQ3UQj.1#success" target="_blank" style="font-size: 15px;" rel="noopener">https://us04web.zoom.us/j/75645426753?pwd=75MZSlxVWY19Crvpv8oAfdKTsQ3UQj.1#success<br></a>Meeting ID: 756 4542 6753<br>Passcode: jwJv85</h4><h4>____________________________________________________________________</h4><h3>Meeting Agenda:</h3><h4><ol>    <li>Call to order</li>    <li>Roll Call</li>    <li>Old Business    <ol>        <li>Review <a href="https://bendoregon.prod-as.govaccess.org/home/showpublisheddocument/63995/638943110449400000" target="_blank" rel="noopener">Meeting Minutes – August 22, 2025</a></li>    </ol>    </li>    <li>New Business    <ol>        <li>Discussion of the Firefighter/Paramedic testing process</li>        <li>Certification of the Firefighter/Paramedic eligibility list</li>    </ol>    </li>    <li>Good of the Order&nbsp;</li>    <li>Adjourn</li></ol></h4><h3>Accessible Meeting Information</h3><p>This meeting/event location is accessible. Sign language interpreter service, assistive listening devices, materials in alternate format such as Braille, large print, electronic formats<br>and CD Formats, or any other accommodations are available upon advance request. Please contact Makayla Oliver no later than September 30, 2025 at moliver@bendoregon.gov or<br>541-323-8571; Relay Users Dial 7-1-1. Providing, at least, 3 days’ notice prior to the event will help ensure availability.</p>
X-ALT-DESC;FMTTYPE=text/html:<h2>Meeting Agenda</h2><h3><span style="font-size: 15px;">Civil Service Commission<br></span><span style="font-size: 15px;">October 1, 2025 at 11 a.m.<br></span><span style="font-size: 15px;">Hybrid</span></h3><h3>The public is invited to watch online or in person:</h3><h4>Join Zoom Meeting:&nbsp;<a href="https://us04web.zoom.us/j/75645426753?pwd=75MZSlxVWY19Crvpv8oAfdKTsQ3UQj.1#success" target="_blank" style="font-size: 15px;" rel="noopener">https://us04web.zoom.us/j/75645426753?pwd=75MZSlxVWY19Crvpv8oAfdKTsQ3UQj.1#success<br></a>Meeting ID: 756 4542 6753<br>Passcode: jwJv85</h4><h4>____________________________________________________________________</h4><h3>Meeting Agenda:</h3><h4><ol>    <li>Call to order</li>    <li>Roll Call</li>    <li>Old Business    <ol>        <li>Review <a href="https://bendoregon.prod-as.govaccess.org/home/showpublisheddocument/63995/638943110449400000" target="_blank" rel="noopener">Meeting Minutes – August 22, 2025</a></li>    </ol>    </li>    <li>New Business    <ol>        <li>Discussion of the Firefighter/Paramedic testing process</li>        <li>Certification of the Firefighter/Paramedic eligibility list</li>    </ol>    </li>    <li>Good of the Order&nbsp;</li>    <li>Adjourn</li></ol></h4><h3>Accessible Meeting Information</h3><p>This meeting/event location is accessible. Sign language interpreter service, assistive listening devices, materials in alternate format such as Braille, large print, electronic formats<br>and CD Formats, or any other accommodations are available upon advance request. Please contact Makayla Oliver no later than September 30, 2025 at moliver@bendoregon.gov or<br>541-323-8571; Relay Users Dial 7-1-1. Providing, at least, 3 days’ notice prior to the event will help ensure availability.</p>
LOCATION:Bend Fire Administration\, 1212 SW Simpson Ave Bend\, Oregon 97702
CLASS:PUBLIC
END:VEVENT
END:VCALENDAR
