BEGIN:VCALENDAR
VERSION:2.0
PRODID:City of Bend Calendar Creator
METHOD:PUBLISH
BEGIN:VEVENT
DTSTAMP:20250925T110539
DTSTART:20260514T133000
DTEND:20260514T163000
SUMMARY:Housing Options Made for Everyone Committee Meeting
DESCRIPTION:<h3>For more information on the Home Options Made for Everyone Committee, check out the <a href="https://www.bendoregon.gov/government/committees/housing-options-made-for-everyone" target="_blank" rel="noopener">HOME website</a></h3><h3><b style="font-size: 15px;">MEETING NOTICE</b></h3><p>The Home Options Made for Everyone (HOME) Committee will conduct a meeting virtually through Zoom and in person in Council Chambers at 710 NW Wall Street, Bend, OR 97703 on Thursday, October 2nd, 2025, from 1:30 to 4:30 p.m.</p><p><b>For Committee Members and City Staff:</b></p><p>You will receive a Zoom email confirmation with a personal link/information to connect via computer or phone.</p><p><b>Regular Attendees-Zoom Link:&nbsp;</b></p><ul>    <li><b><span style="color: rgb(192, 0, 0);">Housing Options Made for Everyone Zoom Link - TBP</span></b></li>    <li><b><span style="color: rgb(192, 0, 0);"><a href="https://bendoregon-gov.zoom.us/j/89076946929?pwd=faiZCffbcfwkehD1wRbKWfZoU0Ypzr.1" target="_blank">&nbsp;</a></span></b><b>Webinar ID:&nbsp;</b></li>    <li><b>&nbsp;</b><b>Passcode:&nbsp;</b></li></ul><p><b>To Attend by Phone:</b></p><ul>    <li><b>Toll Free Call-in Number:&nbsp;&nbsp;</b></li>    <li><b>Call-in Phone Number:&nbsp;</b></li>    <li><b>Webinar ID:&nbsp;</b></li>    <li><b>Passcode:&nbsp;</b></li></ul><p><b>YouTube:</b>&nbsp;<b><span><span><span><span style="color: rgb(192, 0, 0);">Livestream the October 2<sup>nd</sup> HOME Committee Meeting here</span></span></span></span></b></p><p><b>Technical Difficulties Connecting to this Meeting:&nbsp;</b>Call 541-410-9341.</p><p><b>Accessible Meeting Information</b></p><p>This meeting/event location is accessible. Sign language interpreter service, assistive listening devices, materials in alternate format such as Braille, large print, electronic formats, or any other accommodations are available upon advance request. Please contact Misty Driggers no later than 24 hours in advance at&nbsp;<b><a href="mailto:ckerr@bendoregon.gov?subject=ckerr@bendoregon.gov" id="ckerr@bendoregon.gov" title="ckerr@bendoregon.gov">&nbsp;</a><a href="mailto:ckerr@bendoregon.gov?subject=ckerr@bendoregon.gov" id="ckerr@bendoregon.gov" title="ckerr@bendoregon.gov">ckerr@bendoregon.gov</a>&nbsp;</b>or call 541-388-5505; Relay Users Dial 7-1-1. Providing at least 3 days’ notice prior to the event will help ensure availability.</p>
X-ALT-DESC;FMTTYPE=text/html:<h3>For more information on the Home Options Made for Everyone Committee, check out the <a href="https://www.bendoregon.gov/government/committees/housing-options-made-for-everyone" target="_blank" rel="noopener">HOME website</a></h3><h3><b style="font-size: 15px;">MEETING NOTICE</b></h3><p>The Home Options Made for Everyone (HOME) Committee will conduct a meeting virtually through Zoom and in person in Council Chambers at 710 NW Wall Street, Bend, OR 97703 on Thursday, October 2nd, 2025, from 1:30 to 4:30 p.m.</p><p><b>For Committee Members and City Staff:</b></p><p>You will receive a Zoom email confirmation with a personal link/information to connect via computer or phone.</p><p><b>Regular Attendees-Zoom Link:&nbsp;</b></p><ul>    <li><b><span style="color: rgb(192, 0, 0);">Housing Options Made for Everyone Zoom Link - TBP</span></b></li>    <li><b><span style="color: rgb(192, 0, 0);"><a href="https://bendoregon-gov.zoom.us/j/89076946929?pwd=faiZCffbcfwkehD1wRbKWfZoU0Ypzr.1" target="_blank">&nbsp;</a></span></b><b>Webinar ID:&nbsp;</b></li>    <li><b>&nbsp;</b><b>Passcode:&nbsp;</b></li></ul><p><b>To Attend by Phone:</b></p><ul>    <li><b>Toll Free Call-in Number:&nbsp;&nbsp;</b></li>    <li><b>Call-in Phone Number:&nbsp;</b></li>    <li><b>Webinar ID:&nbsp;</b></li>    <li><b>Passcode:&nbsp;</b></li></ul><p><b>YouTube:</b>&nbsp;<b><span><span><span><span style="color: rgb(192, 0, 0);">Livestream the October 2<sup>nd</sup> HOME Committee Meeting here</span></span></span></span></b></p><p><b>Technical Difficulties Connecting to this Meeting:&nbsp;</b>Call 541-410-9341.</p><p><b>Accessible Meeting Information</b></p><p>This meeting/event location is accessible. Sign language interpreter service, assistive listening devices, materials in alternate format such as Braille, large print, electronic formats, or any other accommodations are available upon advance request. Please contact Misty Driggers no later than 24 hours in advance at&nbsp;<b><a href="mailto:ckerr@bendoregon.gov?subject=ckerr@bendoregon.gov" id="ckerr@bendoregon.gov" title="ckerr@bendoregon.gov">&nbsp;</a><a href="mailto:ckerr@bendoregon.gov?subject=ckerr@bendoregon.gov" id="ckerr@bendoregon.gov" title="ckerr@bendoregon.gov">ckerr@bendoregon.gov</a>&nbsp;</b>or call 541-388-5505; Relay Users Dial 7-1-1. Providing at least 3 days’ notice prior to the event will help ensure availability.</p>
LOCATION:Council Chambers (City Hall)\, 710 NW Wall St Bend\, Oregon 97703
CLASS:PUBLIC
END:VEVENT
END:VCALENDAR
