BEGIN:VCALENDAR
VERSION:2.0
PRODID:City of Bend Calendar Creator
METHOD:PUBLISH
BEGIN:VEVENT
DTSTAMP:20250929T103228
DTSTART:20250929T150000
DTEND:20250929T165900
SUMMARY:Application Review Subgroup Meeting
DESCRIPTION:<p>This meeting will be held in the Growth Managment conference room and via Zoom.&nbsp;&nbsp;Meeting time is 3:00 - 5:00pm</p><p>Join from PC, Mac, iPad, or Android:<br><a aria-label="Link https://bendoregon-gov.zoom.us/j/87378136630?pwd=ns4V8c7fuWFfNPjejvYxj6T5P6y2js.1" id="menurjv" href="https://bendoregon-gov.zoom.us/j/87378136630?pwd=ns4V8c7fuWFfNPjejvYxj6T5P6y2js.1" rel="noreferrer noopener" target="_blank" ___1q1shib="" f2hkw1w="" f3rmtva="" f1ewtqcl="" fyind8e="" f1k6fduh="" f1w7gpdv="" fk6fouc="" fjoy568="" figsok6="" f1s184ao="" f1mk8lai="" fnbmjn9="" f1o700av="" f13mvf36="" f1cmlufx="" f9n3di6="" f1ids18y="" f1tx3yz7="" f1deo86v="" f1eh06m1="" f1iescvh="" fhgqx19="" f1olyrje="" f1p93eir="" f1nev41a="" f1h8hb77="" f1lqvz6u="" f10aw75t="" fsle3fq="" f17ae5zn"="" title="https://bendoregon-gov.zoom.us/j/87378136630?pwd=ns4v8c7fuwffnpjejvyxj6t5p6y2js.1">https://bendoregon-gov.zoom.us/j/87378136630?pwd=ns4V8c7fuWFfNPjejvYxj6T5P6y2js.1</a></p><p>Passcode:793472</p><p>To watch live or later via YouTube:&nbsp;<a href="https://www.youtube.com/watch?v=AvlsehQsXp8" target="_blank" rel="noopener">https://www.youtube.com/watch?v=AvlsehQsXp8&nbsp;</a></p>
X-ALT-DESC;FMTTYPE=text/html:<p>This meeting will be held in the Growth Managment conference room and via Zoom.&nbsp;&nbsp;Meeting time is 3:00 - 5:00pm</p><p>Join from PC, Mac, iPad, or Android:<br><a aria-label="Link https://bendoregon-gov.zoom.us/j/87378136630?pwd=ns4V8c7fuWFfNPjejvYxj6T5P6y2js.1" id="menurjv" href="https://bendoregon-gov.zoom.us/j/87378136630?pwd=ns4V8c7fuWFfNPjejvYxj6T5P6y2js.1" rel="noreferrer noopener" target="_blank" ___1q1shib="" f2hkw1w="" f3rmtva="" f1ewtqcl="" fyind8e="" f1k6fduh="" f1w7gpdv="" fk6fouc="" fjoy568="" figsok6="" f1s184ao="" f1mk8lai="" fnbmjn9="" f1o700av="" f13mvf36="" f1cmlufx="" f9n3di6="" f1ids18y="" f1tx3yz7="" f1deo86v="" f1eh06m1="" f1iescvh="" fhgqx19="" f1olyrje="" f1p93eir="" f1nev41a="" f1h8hb77="" f1lqvz6u="" f10aw75t="" fsle3fq="" f17ae5zn"="" title="https://bendoregon-gov.zoom.us/j/87378136630?pwd=ns4v8c7fuwffnpjejvyxj6t5p6y2js.1">https://bendoregon-gov.zoom.us/j/87378136630?pwd=ns4V8c7fuWFfNPjejvYxj6T5P6y2js.1</a></p><p>Passcode:793472</p><p>To watch live or later via YouTube:&nbsp;<a href="https://www.youtube.com/watch?v=AvlsehQsXp8" target="_blank" rel="noopener">https://www.youtube.com/watch?v=AvlsehQsXp8&nbsp;</a></p>
LOCATION:Growth Management conference room\, 709 NW Wall Street Bend\, Oregon 97703
CLASS:PUBLIC
END:VEVENT
END:VCALENDAR
