BEGIN:VCALENDAR
VERSION:2.0
PRODID:City of Bend Calendar Creator
METHOD:PUBLISH
BEGIN:VEVENT
DTSTAMP:20251210T153711
DTSTART:20260203T100000
DTEND:20260203T233000
SUMMARY:BMPO Technical Advisory Committee Meeting
DESCRIPTION:<p>This is a hybrid meeting. The agenda and Zoom link will be available on the&nbsp;<strong><a href="https://bendoregon.prod-as.govaccess.org/government/departments/bend-metro-planning-organization/mpo-technical-advisory-committee">BMPO Technical Advisory Committee website</a></strong>&nbsp;prior to the meeting date.</p><p>To&nbsp;get email notification for these meetings, submit a subscription request for Bend MPO Technical Advisory Committee event notifications through the&nbsp;<strong><a href="https://bendoregon.prod-as.govaccess.org/services/subscribe">Subscribe page</a></strong>.</p><div>Questions? Contact the&nbsp;<a href="https://bendoregon.prod-as.govaccess.org/government/departments/bend-metro-planning-organization" target="_blank"><strong>BMPO staff</strong></a>.</div><p>&nbsp;</p><p><strong>Accessible Meeting Information<br></strong><strong></strong>This meeting location is accessible. Sign language interpreter service, assistive listening devices, materials in alternate formats such as Braille, large print, electronic formats, or any other accommodations are available upon advance request. Please contact Kelli Kennedy no later than 24 hours in advance at&nbsp;<strong><a href="mailto:&#107;&#107;&#101;&#110;&#110;&#101;&#100;&#121;&#64;&#98;&#101;&#110;&#100;&#111;&#114;&#101;&#103;&#111;&#110;&#46;&#103;&#111;&#118;">kkennedy@bendoregon.gov</a></strong>&nbsp;or call 541-693-2122; Relay Users Dial 7-1-1. Providing at least 3 days’ notice prior to the event will help ensure availability.</p><p><strong>Información sobre accesibilidad en reuniones<br></strong>Hay accesibilidad disponible en esta reunión. Si se solicita con antelación, se puede disponer de servicio de intérprete de lengua de señas, dispositivos de ayuda auditiva, materiales en formatos alternativos como Braille, letra grande, formatos electrónicos o cualquier otro tipo de adaptación. Comuníquese con Kelli Kennedy a más tardar con 24 horas de antelación al&nbsp;<strong><a href="mailto:&#107;&#107;&#101;&#110;&#110;&#101;&#100;&#121;&#64;&#98;&#101;&#110;&#100;&#111;&#114;&#101;&#103;&#111;&#110;&#46;&#103;&#111;&#118;">kkennedy@bendoregon.gov</a></strong>&nbsp;o llame al 541-693-2122; los usuarios del servicio de retransmisión deben marcar el 7-1-1. Si avisa al menos 3 días antes, se asegurará la disponibilidad.</p>
X-ALT-DESC;FMTTYPE=text/html:<p>This is a hybrid meeting. The agenda and Zoom link will be available on the&nbsp;<strong><a href="https://bendoregon.prod-as.govaccess.org/government/departments/bend-metro-planning-organization/mpo-technical-advisory-committee">BMPO Technical Advisory Committee website</a></strong>&nbsp;prior to the meeting date.</p><p>To&nbsp;get email notification for these meetings, submit a subscription request for Bend MPO Technical Advisory Committee event notifications through the&nbsp;<strong><a href="https://bendoregon.prod-as.govaccess.org/services/subscribe">Subscribe page</a></strong>.</p><div>Questions? Contact the&nbsp;<a href="https://bendoregon.prod-as.govaccess.org/government/departments/bend-metro-planning-organization" target="_blank"><strong>BMPO staff</strong></a>.</div><p>&nbsp;</p><p><strong>Accessible Meeting Information<br></strong><strong></strong>This meeting location is accessible. Sign language interpreter service, assistive listening devices, materials in alternate formats such as Braille, large print, electronic formats, or any other accommodations are available upon advance request. Please contact Kelli Kennedy no later than 24 hours in advance at&nbsp;<strong><a href="mailto:&#107;&#107;&#101;&#110;&#110;&#101;&#100;&#121;&#64;&#98;&#101;&#110;&#100;&#111;&#114;&#101;&#103;&#111;&#110;&#46;&#103;&#111;&#118;">kkennedy@bendoregon.gov</a></strong>&nbsp;or call 541-693-2122; Relay Users Dial 7-1-1. Providing at least 3 days’ notice prior to the event will help ensure availability.</p><p><strong>Información sobre accesibilidad en reuniones<br></strong>Hay accesibilidad disponible en esta reunión. Si se solicita con antelación, se puede disponer de servicio de intérprete de lengua de señas, dispositivos de ayuda auditiva, materiales en formatos alternativos como Braille, letra grande, formatos electrónicos o cualquier otro tipo de adaptación. Comuníquese con Kelli Kennedy a más tardar con 24 horas de antelación al&nbsp;<strong><a href="mailto:&#107;&#107;&#101;&#110;&#110;&#101;&#100;&#121;&#64;&#98;&#101;&#110;&#100;&#111;&#114;&#101;&#103;&#111;&#110;&#46;&#103;&#111;&#118;">kkennedy@bendoregon.gov</a></strong>&nbsp;o llame al 541-693-2122; los usuarios del servicio de retransmisión deben marcar el 7-1-1. Si avisa al menos 3 días antes, se asegurará la disponibilidad.</p>
LOCATION:Hawthorne Station Conference Room\, 334 NE Hawthorne Avenue Bend\, Oregon 97701
CLASS:PUBLIC
END:VEVENT
END:VCALENDAR
