BEGIN:VCALENDAR
VERSION:2.0
PRODID:City of Bend Calendar Creator
METHOD:PUBLISH
BEGIN:VEVENT
DTSTAMP:20260106T105726
DTSTART:20260115T150000
DTEND:20260115T170000
SUMMARY:Core Area Advisory Board Hybrid Meeting - January 2026
DESCRIPTION:<h3>For more information on the Core Area Advisory Board, check out the&nbsp;<a href="https://www.bendoregon.gov/government/committees/core-area-advisory-board" target="_blank">CAAB website</a></h3><p><b>MEETING NOTICE</b></p><p>The Core Area Advisory Board (CAAB) will conduct a meeting virtually through Zoom and in person in Council Chambers at 710 NW Wall Street, Bend, OR 97703 on Thursday, January 15, 2026, from 3:00 to 5:00 p.m.</p><p><b>For Committee Members and City Staff:</b></p><p>You will receive a Zoom email confirmation with a personal link/information to connect via computer or phone.</p><p><b>Those attending remote - <a href="https://bendoregon-gov.zoom.us/j/83989836448?pwd=sdkfDUSntaEvCLoGjr66WmGIpExADq.1" target="_blank" rel="noopener">CAAB January Zoom Link</a></b></p><p><b>To Attend by Phone:</b></p><ul>    <li><b>Call-in Phone Number:&nbsp;1-888-788-0099</b></li>    <li><b>Webinar ID:&nbsp;839 8983 6448</b></li>    <li><b>Passcode:&nbsp;452858</b></li></ul><p><b><a href="https://youtube.com/live/cWe99b79Q0g?feature=share" target="_blank" rel="noopener">CAAB January Livestream link</a></b></p><p><b>Accessible Meeting Information</b></p><p>This meeting/event location is accessible. Sign language interpreter service, assistive listening devices, materials in alternate format such as Braille, large print, electronic formats, or any other accommodations are available upon advance request. Please contact Misty Driggers no later than 24 hours in advance at&nbsp;<a href="mailto:&#106;&#116;&#97;&#121;&#108;&#111;&#114;&#64;&#98;&#101;&#110;&#100;&#111;&#114;&#101;&#103;&#111;&#110;&#46;&#103;&#111;&#118;">jtaylor@bendoregon.gov</a>&nbsp;or call 541-388-5505; Relay Users Dial 7-1-1. Providing at least 3 days’ notice prior to the event will help ensure availability.</p>
X-ALT-DESC;FMTTYPE=text/html:<h3>For more information on the Core Area Advisory Board, check out the&nbsp;<a href="https://www.bendoregon.gov/government/committees/core-area-advisory-board" target="_blank">CAAB website</a></h3><p><b>MEETING NOTICE</b></p><p>The Core Area Advisory Board (CAAB) will conduct a meeting virtually through Zoom and in person in Council Chambers at 710 NW Wall Street, Bend, OR 97703 on Thursday, January 15, 2026, from 3:00 to 5:00 p.m.</p><p><b>For Committee Members and City Staff:</b></p><p>You will receive a Zoom email confirmation with a personal link/information to connect via computer or phone.</p><p><b>Those attending remote - <a href="https://bendoregon-gov.zoom.us/j/83989836448?pwd=sdkfDUSntaEvCLoGjr66WmGIpExADq.1" target="_blank" rel="noopener">CAAB January Zoom Link</a></b></p><p><b>To Attend by Phone:</b></p><ul>    <li><b>Call-in Phone Number:&nbsp;1-888-788-0099</b></li>    <li><b>Webinar ID:&nbsp;839 8983 6448</b></li>    <li><b>Passcode:&nbsp;452858</b></li></ul><p><b><a href="https://youtube.com/live/cWe99b79Q0g?feature=share" target="_blank" rel="noopener">CAAB January Livestream link</a></b></p><p><b>Accessible Meeting Information</b></p><p>This meeting/event location is accessible. Sign language interpreter service, assistive listening devices, materials in alternate format such as Braille, large print, electronic formats, or any other accommodations are available upon advance request. Please contact Misty Driggers no later than 24 hours in advance at&nbsp;<a href="mailto:&#106;&#116;&#97;&#121;&#108;&#111;&#114;&#64;&#98;&#101;&#110;&#100;&#111;&#114;&#101;&#103;&#111;&#110;&#46;&#103;&#111;&#118;">jtaylor@bendoregon.gov</a>&nbsp;or call 541-388-5505; Relay Users Dial 7-1-1. Providing at least 3 days’ notice prior to the event will help ensure availability.</p>
LOCATION:Council Chambers (City Hall)\, 710 NW Wall St Bend\, Oregon 97703
CLASS:PUBLIC
END:VEVENT
END:VCALENDAR
