BEGIN:VCALENDAR
VERSION:2.0
PRODID:City of Bend Calendar Creator
METHOD:PUBLISH
BEGIN:VEVENT
DTSTAMP:20251017T085039
DTSTART:20251023T170000
DTEND:20251023T190000
SUMMARY:Old Bend Annual Neighborhood Party
DESCRIPTION:<p>Drinks, Food, &amp; Live Music!</p><p>Bring your neighbor to the Old BONEYARD!</p><p>Meet your neighborhood board and hear updates on bike infrastructure, parking, and community projects, but most importantly, come for the good times!!!</p><ul>    <li>Kids Welcome</li>    <li>THREE Dollar Boneyard Beers</li>    <li>Yard Games</li>    <li>Local Band</li>    <li>Fat Tony's Pizza</li></ul><p><strong>Location:</strong> <a href="https://maps.app.goo.gl/9VM2WpeQWNSdnou87" target="_blank" rel="noopener">37 NW Lake Pl.</a></p>
X-ALT-DESC;FMTTYPE=text/html:<p>Drinks, Food, &amp; Live Music!</p><p>Bring your neighbor to the Old BONEYARD!</p><p>Meet your neighborhood board and hear updates on bike infrastructure, parking, and community projects, but most importantly, come for the good times!!!</p><ul>    <li>Kids Welcome</li>    <li>THREE Dollar Boneyard Beers</li>    <li>Yard Games</li>    <li>Local Band</li>    <li>Fat Tony's Pizza</li></ul><p><strong>Location:</strong> <a href="https://maps.app.goo.gl/9VM2WpeQWNSdnou87" target="_blank" rel="noopener">37 NW Lake Pl.</a></p>
LOCATION:
CLASS:PUBLIC
END:VEVENT
END:VCALENDAR
