BEGIN:VCALENDAR
VERSION:2.0
PRODID:City of Bend Calendar Creator
METHOD:PUBLISH
BEGIN:VEVENT
DTSTAMP:20260112T143141
DTSTART:20260120T150000
DTEND:20260120T170000
SUMMARY:Joint City of Bend City Council and Deschutes County Board of Commissioners Meeting
DESCRIPTION:<p>MEETING FORMAT:&nbsp;In accordance with&nbsp;Oregon state law, this meeting is open to the public and can be accessed and attended in person or remotely.&nbsp;&nbsp;</p><p><u>In-person</u>: Members of the public may attend in-person at Prowell Springs Conference Room, 3<sup>rd</sup> Floor, Public Works Campus Headquarters, 21051 NE Talus Place,&nbsp;Bend, OR 97701&nbsp;</p><p><u>Virtual/Remote</u></p><ul type="disc">    <li><b>Zoom:</b>&nbsp;Register to receive the Zoom link to the meeting.&nbsp;No public comment will be taken at this meeting.&nbsp;After registering, you will receive a confirmation email&nbsp;containing&nbsp;information about joining the&nbsp;webinar. Registration link:&nbsp;<a href="https://bendoregon-gov.zoom.us/webinar/register/WN_qoeDdsXKTXm1GCt1QT3uNQ"><b>https://bendoregon-gov.zoom.us/webinar/register/WN_qoeDdsXKTXm1GCt1QT3uNQ</b></a> </li></ul><ul type="disc">    <li><b>YouTube:&nbsp;</b>Livestream the meeting on YouTube at <a href="https://youtube.com/live/GlYKnoVkPIE?feature=share"><b>https://youtube.com/live/GlYKnoVkPIE?feature=share</b></a> </li></ul><ul type="disc">    <li><b>Phone&nbsp;</b>(toll-charges may apply): Call 1-888-788-0099 or 1-253-215-87822&nbsp;and enter the&nbsp;webinar&nbsp;ID:&nbsp;874 2430 4458 followed by the&nbsp;passcode: 997395</li></ul><p><strong>&nbsp;<a href="https://bendoregon.prod-as.govaccess.org/home/showpublisheddocument/64838/639040640317570000" target="_blank" rel="noopener">Agenda</a></strong></p>
X-ALT-DESC;FMTTYPE=text/html:<p>MEETING FORMAT:&nbsp;In accordance with&nbsp;Oregon state law, this meeting is open to the public and can be accessed and attended in person or remotely.&nbsp;&nbsp;</p><p><u>In-person</u>: Members of the public may attend in-person at Prowell Springs Conference Room, 3<sup>rd</sup> Floor, Public Works Campus Headquarters, 21051 NE Talus Place,&nbsp;Bend, OR 97701&nbsp;</p><p><u>Virtual/Remote</u></p><ul type="disc">    <li><b>Zoom:</b>&nbsp;Register to receive the Zoom link to the meeting.&nbsp;No public comment will be taken at this meeting.&nbsp;After registering, you will receive a confirmation email&nbsp;containing&nbsp;information about joining the&nbsp;webinar. Registration link:&nbsp;<a href="https://bendoregon-gov.zoom.us/webinar/register/WN_qoeDdsXKTXm1GCt1QT3uNQ"><b>https://bendoregon-gov.zoom.us/webinar/register/WN_qoeDdsXKTXm1GCt1QT3uNQ</b></a> </li></ul><ul type="disc">    <li><b>YouTube:&nbsp;</b>Livestream the meeting on YouTube at <a href="https://youtube.com/live/GlYKnoVkPIE?feature=share"><b>https://youtube.com/live/GlYKnoVkPIE?feature=share</b></a> </li></ul><ul type="disc">    <li><b>Phone&nbsp;</b>(toll-charges may apply): Call 1-888-788-0099 or 1-253-215-87822&nbsp;and enter the&nbsp;webinar&nbsp;ID:&nbsp;874 2430 4458 followed by the&nbsp;passcode: 997395</li></ul><p><strong>&nbsp;<a href="https://bendoregon.prod-as.govaccess.org/home/showpublisheddocument/64838/639040640317570000" target="_blank" rel="noopener">Agenda</a></strong></p>
LOCATION:
CLASS:PUBLIC
END:VEVENT
END:VCALENDAR
