BEGIN:VCALENDAR
VERSION:2.0
PRODID:City of Bend Calendar Creator
METHOD:PUBLISH
BEGIN:VEVENT
DTSTAMP:20251112T145543
DTSTART:20251206T180000
DTEND:20251206T200000
SUMMARY:Bend Fire Santa Express in Northwest Bend
DESCRIPTION:<h3>Santa is trading in his sleigh for a fire engine! Bring your donations to the Santa Express!</h3><p>The Bend Fire Santa Express is gearing up for another fun year visiting local neighborhoods to collect food, clothing and toys in support of The Salvation Army. On Saturday. Dec. 6 Santa will be coming through the Three Pines, Westside Meadows and Shevlin Ridge neighborhoods in northwest Bend.&nbsp;</p><p>The Santa Express will begin at the corner of NW Mt. Shasta Drive and NW Jesse Place at 6 p.m. and slowly walk the route shown in the attached map. Meet Santa and the crews along the route to provide a donation! </p><h4><em>Need ideas? Here are current needs provided by The Salvation Army:</em></h4><ul>    <li>Teen and Pre-Teen Christmas gifts (t-shirts, sweatshirts, bath/body products, gift cards, sports supplies, etc.)</li></ul><h3>If you need help for this holiday season with food or presents, please call The Salvation Army at 541-389-8888.</h3><p></p>
X-ALT-DESC;FMTTYPE=text/html:<h3>Santa is trading in his sleigh for a fire engine! Bring your donations to the Santa Express!</h3><p>The Bend Fire Santa Express is gearing up for another fun year visiting local neighborhoods to collect food, clothing and toys in support of The Salvation Army. On Saturday. Dec. 6 Santa will be coming through the Three Pines, Westside Meadows and Shevlin Ridge neighborhoods in northwest Bend.&nbsp;</p><p>The Santa Express will begin at the corner of NW Mt. Shasta Drive and NW Jesse Place at 6 p.m. and slowly walk the route shown in the attached map. Meet Santa and the crews along the route to provide a donation! </p><h4><em>Need ideas? Here are current needs provided by The Salvation Army:</em></h4><ul>    <li>Teen and Pre-Teen Christmas gifts (t-shirts, sweatshirts, bath/body products, gift cards, sports supplies, etc.)</li></ul><h3>If you need help for this holiday season with food or presents, please call The Salvation Army at 541-389-8888.</h3><p></p>
LOCATION:NW Mt. Shasta Drive and NW Jesse Place\, Bend\, Oregon 97703
CLASS:PUBLIC
END:VEVENT
END:VCALENDAR
