BEGIN:VCALENDAR
VERSION:2.0
PRODID:City of Bend Calendar Creator
METHOD:PUBLISH
BEGIN:VEVENT
DTSTAMP:20251209T123940
DTSTART:20260127T150000
DTEND:20260127T170000
SUMMARY:Affordable Housing Advisory Committee (AHAC) Meeting
DESCRIPTION:<p>This meeting will be held in City Hall Council Chambers and via Zoom.&nbsp;&nbsp;Meeting time is 3:00 - 5:00pm</p><p>Agenda: TBP</p><p>Public comments for this meeting will be accepted two ways.&nbsp;</p><ul type="disc">    <li>To comment live at the meeting, you&nbsp;must&nbsp;join the meeting&nbsp;via Zoom.&nbsp;</li>    <li>Or send comments to housingpublicmeetings@bendoregon.gov&nbsp;prior to&nbsp;12:00 pm&nbsp;on Tuesday, January 27th, 2025. &nbsp;Comments will be shared with committee members.</li></ul><p>To join&nbsp;via Computer&nbsp;(Zoom) TBP</p><p>Webinar ID:</p><p>Passcode (required):</p><p>Or you may&nbsp;call&nbsp;into the meeting and enter the Webinar ID.</p><p>Call (toll charges may apply):&nbsp;&nbsp;</p><p>&nbsp;&nbsp;&nbsp;&nbsp;&nbsp;&nbsp;&nbsp;&nbsp;&nbsp;&nbsp;&nbsp;&nbsp;&nbsp;&nbsp;&nbsp;&nbsp;Webinar ID:&nbsp;&nbsp;</p><p>To watch live or later via YouTube:&nbsp;AHAC YouTube Link - TBP</p>
X-ALT-DESC;FMTTYPE=text/html:<p>This meeting will be held in City Hall Council Chambers and via Zoom.&nbsp;&nbsp;Meeting time is 3:00 - 5:00pm</p><p>Agenda: TBP</p><p>Public comments for this meeting will be accepted two ways.&nbsp;</p><ul type="disc">    <li>To comment live at the meeting, you&nbsp;must&nbsp;join the meeting&nbsp;via Zoom.&nbsp;</li>    <li>Or send comments to housingpublicmeetings@bendoregon.gov&nbsp;prior to&nbsp;12:00 pm&nbsp;on Tuesday, January 27th, 2025. &nbsp;Comments will be shared with committee members.</li></ul><p>To join&nbsp;via Computer&nbsp;(Zoom) TBP</p><p>Webinar ID:</p><p>Passcode (required):</p><p>Or you may&nbsp;call&nbsp;into the meeting and enter the Webinar ID.</p><p>Call (toll charges may apply):&nbsp;&nbsp;</p><p>&nbsp;&nbsp;&nbsp;&nbsp;&nbsp;&nbsp;&nbsp;&nbsp;&nbsp;&nbsp;&nbsp;&nbsp;&nbsp;&nbsp;&nbsp;&nbsp;Webinar ID:&nbsp;&nbsp;</p><p>To watch live or later via YouTube:&nbsp;AHAC YouTube Link - TBP</p>
LOCATION:
CLASS:PUBLIC
END:VEVENT
END:VCALENDAR
