BEGIN:VCALENDAR
VERSION:2.0
PRODID:City of Bend Calendar Creator
METHOD:PUBLISH
BEGIN:VEVENT
DTSTAMP:20251231T120945
DTSTART:20260406T120000
DTEND:20260406T140000
SUMMARY:Bend Economic Development Advisory Board (BEDAB)
DESCRIPTION:<p>The Bend Economic Development Advisory Board (BEDAB) will conduct a hybrid meeting through Zoom and in person in the <b><u>Council Chambers</u></b> at 710 NW Wall Street, Bend, OR 97703, from noon to 2:00 pm.</p><p><b><a href="https://bendoregon-gov.zoom.us/j/85052957871?pwd=7yeTca30O6nxYLbD2vQba5DoFUdBdX.1" target="_blank">Regular Attendees-Zoom Link</a></b></p><p><b>To Attend by Phone:</b></p><ul>    <li><b>Call-in Phone Number: </b>1-888-788-0099</li>    <li><b>Webinar ID: <b>850 5295 7871</b>#<b><b><b><b><b></b></b></b></b></b></b></li>    <li><b>Passcode: <b><b><b><b><b><b><b><b>812138</b>&nbsp;</b></b></b></b></b></b></b></b></li></ul><p><strong>YouTube Link:</strong><b> </b>Livestream link will be posted closer to the meeting date</p><p><strong>Agenda</strong> will be posted closer to the meeting date</p><p><b>Technical Difficulties Connecting to this Meeting: </b>Call 541-410-9341.</p>
X-ALT-DESC;FMTTYPE=text/html:<p>The Bend Economic Development Advisory Board (BEDAB) will conduct a hybrid meeting through Zoom and in person in the <b><u>Council Chambers</u></b> at 710 NW Wall Street, Bend, OR 97703, from noon to 2:00 pm.</p><p><b><a href="https://bendoregon-gov.zoom.us/j/85052957871?pwd=7yeTca30O6nxYLbD2vQba5DoFUdBdX.1" target="_blank">Regular Attendees-Zoom Link</a></b></p><p><b>To Attend by Phone:</b></p><ul>    <li><b>Call-in Phone Number: </b>1-888-788-0099</li>    <li><b>Webinar ID: <b>850 5295 7871</b>#<b><b><b><b><b></b></b></b></b></b></b></li>    <li><b>Passcode: <b><b><b><b><b><b><b><b>812138</b>&nbsp;</b></b></b></b></b></b></b></b></li></ul><p><strong>YouTube Link:</strong><b> </b>Livestream link will be posted closer to the meeting date</p><p><strong>Agenda</strong> will be posted closer to the meeting date</p><p><b>Technical Difficulties Connecting to this Meeting: </b>Call 541-410-9341.</p>
LOCATION:Council Chambers (City Hall)\, 710 NW Wall St Bend\, Oregon 97703
CLASS:PUBLIC
END:VEVENT
END:VCALENDAR
